BEGIN:VCALENDAR
VERSION:2.0
PRODID:-//Twyford Church of England School - ECPv6.15.20//NONSGML v1.0//EN
CALSCALE:GREGORIAN
METHOD:PUBLISH
X-ORIGINAL-URL:https://www.twyfordschool.org.uk
X-WR-CALDESC:Events for Twyford Church of England School
REFRESH-INTERVAL;VALUE=DURATION:PT1H
X-Robots-Tag:noindex
X-PUBLISHED-TTL:PT1H
BEGIN:VTIMEZONE
TZID:Europe/London
BEGIN:DAYLIGHT
TZOFFSETFROM:+0000
TZOFFSETTO:+0100
TZNAME:BST
DTSTART:20240331T010000
END:DAYLIGHT
BEGIN:STANDARD
TZOFFSETFROM:+0100
TZOFFSETTO:+0000
TZNAME:GMT
DTSTART:20241027T010000
END:STANDARD
BEGIN:DAYLIGHT
TZOFFSETFROM:+0000
TZOFFSETTO:+0100
TZNAME:BST
DTSTART:20250330T010000
END:DAYLIGHT
BEGIN:STANDARD
TZOFFSETFROM:+0100
TZOFFSETTO:+0000
TZNAME:GMT
DTSTART:20251026T010000
END:STANDARD
BEGIN:DAYLIGHT
TZOFFSETFROM:+0000
TZOFFSETTO:+0100
TZNAME:BST
DTSTART:20260329T010000
END:DAYLIGHT
BEGIN:STANDARD
TZOFFSETFROM:+0100
TZOFFSETTO:+0000
TZNAME:GMT
DTSTART:20261025T010000
END:STANDARD
END:VTIMEZONE
BEGIN:VEVENT
DTSTART;VALUE=DATE:20250903
DTEND;VALUE=DATE:20250904
DTSTAMP:20260419T200559
CREATED:20250321T102005Z
LAST-MODIFIED:20250321T102005Z
UID:9105-1756857600-1756943999@www.twyfordschool.org.uk
SUMMARY:Inset Day
DESCRIPTION:
URL:https://www.twyfordschool.org.uk/event/inset-day-16/
END:VEVENT
BEGIN:VEVENT
DTSTART;VALUE=DATE:20250904
DTEND;VALUE=DATE:20250905
DTSTAMP:20260419T200559
CREATED:20241212T154327Z
LAST-MODIFIED:20241212T154327Z
UID:8858-1756944000-1757030399@www.twyfordschool.org.uk
SUMMARY:School Re-opens
DESCRIPTION:after summer break
URL:https://www.twyfordschool.org.uk/event/school-re-opens/
END:VEVENT
BEGIN:VEVENT
DTSTART;VALUE=DATE:20250909
DTEND;VALUE=DATE:20250910
DTSTAMP:20260419T200559
CREATED:20250905T145316Z
LAST-MODIFIED:20250905T145316Z
UID:9361-1757376000-1757462399@www.twyfordschool.org.uk
SUMMARY:Year 6 Transfer Test – Practise Paper
DESCRIPTION:
URL:https://www.twyfordschool.org.uk/event/year-6-transfer-test-practise-paper/
END:VEVENT
BEGIN:VEVENT
DTSTART;VALUE=DATE:20250911
DTEND;VALUE=DATE:20250912
DTSTAMP:20260419T200559
CREATED:20250905T145337Z
LAST-MODIFIED:20250905T145337Z
UID:9363-1757548800-1757635199@www.twyfordschool.org.uk
SUMMARY:Year 6 Transfer Test
DESCRIPTION:
URL:https://www.twyfordschool.org.uk/event/year-6-transfer-test/
END:VEVENT
BEGIN:VEVENT
DTSTART;TZID=Europe/London:20250912T094500
DTEND;TZID=Europe/London:20250912T110000
DTSTAMP:20260419T200559
CREATED:20250905T144917Z
LAST-MODIFIED:20250905T144917Z
UID:9355-1757670300-1757674800@www.twyfordschool.org.uk
SUMMARY:Baby and Toddler Group
DESCRIPTION:
URL:https://www.twyfordschool.org.uk/event/baby-and-toddler-group-23/
END:VEVENT
BEGIN:VEVENT
DTSTART;VALUE=DATE:20250915
DTEND;VALUE=DATE:20250916
DTSTAMP:20260419T200559
CREATED:20250905T145428Z
LAST-MODIFIED:20250905T145428Z
UID:9365-1757894400-1757980799@www.twyfordschool.org.uk
SUMMARY:Bikeability for Year 5
DESCRIPTION:
URL:https://www.twyfordschool.org.uk/event/bikeability-for-year-5/
END:VEVENT
BEGIN:VEVENT
DTSTART;VALUE=DATE:20250916
DTEND;VALUE=DATE:20250917
DTSTAMP:20260419T200559
CREATED:20250905T145444Z
LAST-MODIFIED:20250905T145444Z
UID:9367-1757980800-1758067199@www.twyfordschool.org.uk
SUMMARY:Bikeability for Year 5
DESCRIPTION:
URL:https://www.twyfordschool.org.uk/event/bikeability-for-year-5-2/
END:VEVENT
BEGIN:VEVENT
DTSTART;TZID=Europe/London:20250919T094500
DTEND;TZID=Europe/London:20250919T110000
DTSTAMP:20260419T200559
CREATED:20250905T144951Z
LAST-MODIFIED:20250905T145143Z
UID:9357-1758275100-1758279600@www.twyfordschool.org.uk
SUMMARY:Baby and Toddler Group
DESCRIPTION:
URL:https://www.twyfordschool.org.uk/event/baby-and-toddler-group-31/
END:VEVENT
BEGIN:VEVENT
DTSTART;TZID=Europe/London:20250926T094500
DTEND;TZID=Europe/London:20250926T110000
DTSTAMP:20260419T200559
CREATED:20250905T145222Z
LAST-MODIFIED:20251121T095810Z
UID:9359-1758879900-1758884400@www.twyfordschool.org.uk
SUMMARY:Baby and Toddler Group
DESCRIPTION:
URL:https://www.twyfordschool.org.uk/event/baby-and-toddler-group-38/
END:VEVENT
BEGIN:VEVENT
DTSTART;VALUE=DATE:20250929
DTEND;VALUE=DATE:20250930
DTSTAMP:20260419T200559
CREATED:20250619T103410Z
LAST-MODIFIED:20250619T103410Z
UID:9254-1759104000-1759190399@www.twyfordschool.org.uk
SUMMARY:Inset Day
DESCRIPTION:
URL:https://www.twyfordschool.org.uk/event/inset-day-11/
END:VEVENT
END:VCALENDAR