BEGIN:VCALENDAR
VERSION:2.0
PRODID:-//Twyford Church of England School - ECPv6.15.20//NONSGML v1.0//EN
CALSCALE:GREGORIAN
METHOD:PUBLISH
X-WR-CALNAME:Twyford Church of England School
X-ORIGINAL-URL:https://www.twyfordschool.org.uk
X-WR-CALDESC:Events for Twyford Church of England School
REFRESH-INTERVAL;VALUE=DURATION:PT1H
X-Robots-Tag:noindex
X-PUBLISHED-TTL:PT1H
BEGIN:VTIMEZONE
TZID:Europe/London
BEGIN:DAYLIGHT
TZOFFSETFROM:+0000
TZOFFSETTO:+0100
TZNAME:BST
DTSTART:20240331T010000
END:DAYLIGHT
BEGIN:STANDARD
TZOFFSETFROM:+0100
TZOFFSETTO:+0000
TZNAME:GMT
DTSTART:20241027T010000
END:STANDARD
BEGIN:DAYLIGHT
TZOFFSETFROM:+0000
TZOFFSETTO:+0100
TZNAME:BST
DTSTART:20250330T010000
END:DAYLIGHT
BEGIN:STANDARD
TZOFFSETFROM:+0100
TZOFFSETTO:+0000
TZNAME:GMT
DTSTART:20251026T010000
END:STANDARD
BEGIN:DAYLIGHT
TZOFFSETFROM:+0000
TZOFFSETTO:+0100
TZNAME:BST
DTSTART:20260329T010000
END:DAYLIGHT
BEGIN:STANDARD
TZOFFSETFROM:+0100
TZOFFSETTO:+0000
TZNAME:GMT
DTSTART:20261025T010000
END:STANDARD
END:VTIMEZONE
BEGIN:VEVENT
DTSTART;TZID=Europe/London:20250502T094500
DTEND;TZID=Europe/London:20250502T110000
DTSTAMP:20260420T021002
CREATED:20250227T095940Z
LAST-MODIFIED:20250227T095940Z
UID:9051-1746179100-1746183600@www.twyfordschool.org.uk
SUMMARY:Baby and Toddler Group
DESCRIPTION:
URL:https://www.twyfordschool.org.uk/event/baby-and-toddler-group-27/
END:VEVENT
BEGIN:VEVENT
DTSTART;VALUE=DATE:20250505
DTEND;VALUE=DATE:20250506
DTSTAMP:20260420T021002
CREATED:20240927T120026Z
LAST-MODIFIED:20240927T120353Z
UID:8699-1746403200-1746489599@www.twyfordschool.org.uk
SUMMARY:May Bank Holiday
DESCRIPTION:School Closed May Bank Holiday
URL:https://www.twyfordschool.org.uk/event/school-closed-bank-holiday/
END:VEVENT
BEGIN:VEVENT
DTSTART;VALUE=DATE:20250507
DTEND;VALUE=DATE:20250508
DTSTAMP:20260420T021002
CREATED:20250206T115354Z
LAST-MODIFIED:20250206T115354Z
UID:8994-1746576000-1746662399@www.twyfordschool.org.uk
SUMMARY:Swimming Y3-Y5
DESCRIPTION:Swimming Year3\, Year 4 and Year 5
URL:https://www.twyfordschool.org.uk/event/swimming-y3-y5/
END:VEVENT
BEGIN:VEVENT
DTSTART;TZID=Europe/London:20250509T094500
DTEND;TZID=Europe/London:20250509T110000
DTSTAMP:20260420T021002
CREATED:20250227T100037Z
LAST-MODIFIED:20250227T100037Z
UID:9055-1746783900-1746788400@www.twyfordschool.org.uk
SUMMARY:Baby and Toddler Group
DESCRIPTION:
URL:https://www.twyfordschool.org.uk/event/baby-and-toddler-group-29/
END:VEVENT
BEGIN:VEVENT
DTSTART;VALUE=DATE:20250514
DTEND;VALUE=DATE:20250515
DTSTAMP:20260420T021002
CREATED:20250206T115438Z
LAST-MODIFIED:20250206T115438Z
UID:8996-1747180800-1747267199@www.twyfordschool.org.uk
SUMMARY:Swimming Y3-Y5
DESCRIPTION:Swimming Year3\, Year 4 and Year 5
URL:https://www.twyfordschool.org.uk/event/swimming-y3-y5-2/
END:VEVENT
BEGIN:VEVENT
DTSTART;TZID=Europe/London:20250516T094500
DTEND;TZID=Europe/London:20250516T110000
DTSTAMP:20260420T021002
CREATED:20250227T100104Z
LAST-MODIFIED:20250227T100104Z
UID:9057-1747388700-1747393200@www.twyfordschool.org.uk
SUMMARY:Baby and Toddler Group
DESCRIPTION:
URL:https://www.twyfordschool.org.uk/event/baby-and-toddler-group-30/
END:VEVENT
BEGIN:VEVENT
DTSTART;TZID=Europe/London:20250519T091500
DTEND;TZID=Europe/London:20250519T091500
DTSTAMP:20260420T021002
CREATED:20250516T132522Z
LAST-MODIFIED:20250516T132522Z
UID:9201-1747646100-1747646100@www.twyfordschool.org.uk
SUMMARY:Collective Worship
DESCRIPTION:St Mary’s Church with Rev. David
URL:https://www.twyfordschool.org.uk/event/collective-worship/
END:VEVENT
BEGIN:VEVENT
DTSTART;VALUE=DATE:20250521
DTEND;VALUE=DATE:20250522
DTSTAMP:20260420T021002
CREATED:20250130T092837Z
LAST-MODIFIED:20250130T092837Z
UID:8973-1747785600-1747871999@www.twyfordschool.org.uk
SUMMARY:Science Festival at the Royal Latin School Y5
DESCRIPTION:
URL:https://www.twyfordschool.org.uk/event/science-festival-at-the-royal-latin-school-y5/
END:VEVENT
BEGIN:VEVENT
DTSTART;VALUE=DATE:20250521
DTEND;VALUE=DATE:20250522
DTSTAMP:20260420T021002
CREATED:20250206T115511Z
LAST-MODIFIED:20250206T115511Z
UID:8998-1747785600-1747871999@www.twyfordschool.org.uk
SUMMARY:Swimming Y3-Y5
DESCRIPTION:Swimming Year3\, Year 4 and Year 5
URL:https://www.twyfordschool.org.uk/event/swimming-y3-y5-3/
END:VEVENT
BEGIN:VEVENT
DTSTART;VALUE=DATE:20250523
DTEND;VALUE=DATE:20250524
DTSTAMP:20260420T021002
CREATED:20231006T102432Z
LAST-MODIFIED:20231006T102432Z
UID:7956-1747958400-1748044799@www.twyfordschool.org.uk
SUMMARY:School breaks for half term
DESCRIPTION:
URL:https://www.twyfordschool.org.uk/event/school-breaks-for-half-term-6/
END:VEVENT
BEGIN:VEVENT
DTSTART;VALUE=DATE:20250528
DTEND;VALUE=DATE:20250529
DTSTAMP:20260420T021002
CREATED:20250403T142141Z
LAST-MODIFIED:20250403T142141Z
UID:9147-1748390400-1748476799@www.twyfordschool.org.uk
SUMMARY:Swimming Y3-Y5
DESCRIPTION:Swimming Year3\, Year 4 and Year 5
URL:https://www.twyfordschool.org.uk/event/swimming-y3-y5-4/
END:VEVENT
END:VCALENDAR