BEGIN:VCALENDAR
VERSION:2.0
PRODID:-//Twyford Church of England School - ECPv6.15.20//NONSGML v1.0//EN
CALSCALE:GREGORIAN
METHOD:PUBLISH
X-ORIGINAL-URL:https://www.twyfordschool.org.uk
X-WR-CALDESC:Events for Twyford Church of England School
REFRESH-INTERVAL;VALUE=DURATION:PT1H
X-Robots-Tag:noindex
X-PUBLISHED-TTL:PT1H
BEGIN:VTIMEZONE
TZID:Europe/London
BEGIN:DAYLIGHT
TZOFFSETFROM:+0000
TZOFFSETTO:+0100
TZNAME:BST
DTSTART:20240331T010000
END:DAYLIGHT
BEGIN:STANDARD
TZOFFSETFROM:+0100
TZOFFSETTO:+0000
TZNAME:GMT
DTSTART:20241027T010000
END:STANDARD
BEGIN:DAYLIGHT
TZOFFSETFROM:+0000
TZOFFSETTO:+0100
TZNAME:BST
DTSTART:20250330T010000
END:DAYLIGHT
BEGIN:STANDARD
TZOFFSETFROM:+0100
TZOFFSETTO:+0000
TZNAME:GMT
DTSTART:20251026T010000
END:STANDARD
BEGIN:DAYLIGHT
TZOFFSETFROM:+0000
TZOFFSETTO:+0100
TZNAME:BST
DTSTART:20260329T010000
END:DAYLIGHT
BEGIN:STANDARD
TZOFFSETFROM:+0100
TZOFFSETTO:+0000
TZNAME:GMT
DTSTART:20261025T010000
END:STANDARD
END:VTIMEZONE
BEGIN:VEVENT
DTSTART;TZID=Europe/London:20250402T140000
DTEND;TZID=Europe/London:20250402T140000
DTSTAMP:20260420T033923
CREATED:20250327T155047Z
LAST-MODIFIED:20250327T155047Z
UID:9134-1743602400-1743602400@www.twyfordschool.org.uk
SUMMARY:Pre-School Nursery and Reception Class Easter Egg-stravaganza
DESCRIPTION:
URL:https://www.twyfordschool.org.uk/event/pre-school-nursery-and-reception-class-easter-egg-stravaganza/
END:VEVENT
BEGIN:VEVENT
DTSTART;VALUE=DATE:20250404
DTEND;VALUE=DATE:20250405
DTSTAMP:20260420T033923
CREATED:20231006T102204Z
LAST-MODIFIED:20231006T102204Z
UID:7952-1743724800-1743811199@www.twyfordschool.org.uk
SUMMARY:School breaks for Easter holiday
DESCRIPTION:
URL:https://www.twyfordschool.org.uk/event/school-breaks-for-easter-holiday/
END:VEVENT
BEGIN:VEVENT
DTSTART;VALUE=DATE:20250404
DTEND;VALUE=DATE:20250405
DTSTAMP:20260420T033923
CREATED:20250124T135906Z
LAST-MODIFIED:20250124T135906Z
UID:8971-1743724800-1743811199@www.twyfordschool.org.uk
SUMMARY:Rothschild House Fundraiser
DESCRIPTION:
URL:https://www.twyfordschool.org.uk/event/rothschild-house-fundraiser-2/
END:VEVENT
BEGIN:VEVENT
DTSTART;TZID=Europe/London:20250404T094500
DTEND;TZID=Europe/London:20250404T110000
DTSTAMP:20260420T033923
CREATED:20250227T095400Z
LAST-MODIFIED:20250227T095400Z
UID:9047-1743759900-1743764400@www.twyfordschool.org.uk
SUMMARY:Baby and Toddler Group
DESCRIPTION:
URL:https://www.twyfordschool.org.uk/event/baby-and-toddler-group-26/
END:VEVENT
BEGIN:VEVENT
DTSTART;VALUE=DATE:20250422
DTEND;VALUE=DATE:20250423
DTSTAMP:20260420T033923
CREATED:20231006T102348Z
LAST-MODIFIED:20231006T102348Z
UID:7954-1745280000-1745366399@www.twyfordschool.org.uk
SUMMARY:School re-opens after Easter holiday
DESCRIPTION:
URL:https://www.twyfordschool.org.uk/event/school-re-opens-after-easter-holiday/
END:VEVENT
BEGIN:VEVENT
DTSTART;VALUE=DATE:20250424
DTEND;VALUE=DATE:20250425
DTSTAMP:20260420T033923
CREATED:20241212T154121Z
LAST-MODIFIED:20241212T154121Z
UID:8854-1745452800-1745539199@www.twyfordschool.org.uk
SUMMARY:Class Photographs
DESCRIPTION:
URL:https://www.twyfordschool.org.uk/event/class-photographs-3/
END:VEVENT
END:VCALENDAR