BEGIN:VCALENDAR
VERSION:2.0
PRODID:-//Twyford Church of England School - ECPv6.15.20//NONSGML v1.0//EN
CALSCALE:GREGORIAN
METHOD:PUBLISH
X-WR-CALNAME:Twyford Church of England School
X-ORIGINAL-URL:https://www.twyfordschool.org.uk
X-WR-CALDESC:Events for Twyford Church of England School
REFRESH-INTERVAL;VALUE=DURATION:PT1H
X-Robots-Tag:noindex
X-PUBLISHED-TTL:PT1H
BEGIN:VTIMEZONE
TZID:Europe/London
BEGIN:DAYLIGHT
TZOFFSETFROM:+0000
TZOFFSETTO:+0100
TZNAME:BST
DTSTART:20230326T010000
END:DAYLIGHT
BEGIN:STANDARD
TZOFFSETFROM:+0100
TZOFFSETTO:+0000
TZNAME:GMT
DTSTART:20231029T010000
END:STANDARD
BEGIN:DAYLIGHT
TZOFFSETFROM:+0000
TZOFFSETTO:+0100
TZNAME:BST
DTSTART:20240331T010000
END:DAYLIGHT
BEGIN:STANDARD
TZOFFSETFROM:+0100
TZOFFSETTO:+0000
TZNAME:GMT
DTSTART:20241027T010000
END:STANDARD
BEGIN:DAYLIGHT
TZOFFSETFROM:+0000
TZOFFSETTO:+0100
TZNAME:BST
DTSTART:20250330T010000
END:DAYLIGHT
BEGIN:STANDARD
TZOFFSETFROM:+0100
TZOFFSETTO:+0000
TZNAME:GMT
DTSTART:20251026T010000
END:STANDARD
END:VTIMEZONE
BEGIN:VEVENT
DTSTART;VALUE=DATE:20240415
DTEND;VALUE=DATE:20240416
DTSTAMP:20260420T214925
CREATED:20230316T122112Z
LAST-MODIFIED:20230316T132057Z
UID:7624-1713139200-1713225599@www.twyfordschool.org.uk
SUMMARY:Start of Summer Term
DESCRIPTION:School reopens after Easter Holidays
URL:https://www.twyfordschool.org.uk/event/start-of-summer-term/
LOCATION:Twyford C of E School\, Church Street\, Twyford\, Buckinghamshire\, MK18 4EU\, United Kingdom
END:VEVENT
BEGIN:VEVENT
DTSTART;VALUE=DATE:20240416
DTEND;VALUE=DATE:20240417
DTSTAMP:20260420T214925
CREATED:20231006T100351Z
LAST-MODIFIED:20240105T112323Z
UID:7931-1713225600-1713311999@www.twyfordschool.org.uk
SUMMARY:Primary School Place Offer Day
DESCRIPTION:School offer day for Reception September 2024 places
URL:https://www.twyfordschool.org.uk/event/primary-place-offer-day/
END:VEVENT
BEGIN:VEVENT
DTSTART;VALUE=DATE:20240417
DTEND;VALUE=DATE:20240418
DTSTAMP:20260420T214925
CREATED:20231012T101316Z
LAST-MODIFIED:20231012T103331Z
UID:8000-1713312000-1713398399@www.twyfordschool.org.uk
SUMMARY:LKS2 Swimming
DESCRIPTION:
URL:https://www.twyfordschool.org.uk/event/lks2-swimming/
END:VEVENT
BEGIN:VEVENT
DTSTART;VALUE=DATE:20240418
DTEND;VALUE=DATE:20240419
DTSTAMP:20260420T214925
CREATED:20240315T141129Z
LAST-MODIFIED:20240315T141129Z
UID:8391-1713398400-1713484799@www.twyfordschool.org.uk
SUMMARY:Oxford Castle Trip - Year 1 & 2
DESCRIPTION:Year 1&2
URL:https://www.twyfordschool.org.uk/event/oxford-castle-trip-year-1-2/
END:VEVENT
BEGIN:VEVENT
DTSTART;TZID=Europe/London:20240419T094500
DTEND;TZID=Europe/London:20240419T110000
DTSTAMP:20260420T214925
CREATED:20240104T124746Z
LAST-MODIFIED:20240315T144010Z
UID:8143-1713519900-1713524400@www.twyfordschool.org.uk
SUMMARY:Baby and Toddler Group
DESCRIPTION:
URL:https://www.twyfordschool.org.uk/event/toddler-group-38/
END:VEVENT
BEGIN:VEVENT
DTSTART;VALUE=DATE:20240424
DTEND;VALUE=DATE:20240425
DTSTAMP:20260420T214925
CREATED:20231012T101343Z
LAST-MODIFIED:20231012T104214Z
UID:8002-1713916800-1714003199@www.twyfordschool.org.uk
SUMMARY:LKS2 Swimming
DESCRIPTION:
URL:https://www.twyfordschool.org.uk/event/lks2-swimming-2/
END:VEVENT
BEGIN:VEVENT
DTSTART;TZID=Europe/London:20240426T094500
DTEND;TZID=Europe/London:20240426T110000
DTSTAMP:20260420T214925
CREATED:20240104T124822Z
LAST-MODIFIED:20240315T143937Z
UID:8145-1714124700-1714129200@www.twyfordschool.org.uk
SUMMARY:Baby and Toddler Group
DESCRIPTION:
URL:https://www.twyfordschool.org.uk/event/toddler-group-39/
END:VEVENT
BEGIN:VEVENT
DTSTART;VALUE=DATE:20240430
DTEND;VALUE=DATE:20240501
DTSTAMP:20260420T214925
CREATED:20231102T124333Z
LAST-MODIFIED:20231102T124333Z
UID:8052-1714435200-1714521599@www.twyfordschool.org.uk
SUMMARY:Class Photographs
DESCRIPTION:
URL:https://www.twyfordschool.org.uk/event/class-photographs/
END:VEVENT
END:VCALENDAR