BEGIN:VCALENDAR
VERSION:2.0
PRODID:-//Twyford Church of England School - ECPv6.15.20//NONSGML v1.0//EN
CALSCALE:GREGORIAN
METHOD:PUBLISH
X-ORIGINAL-URL:https://www.twyfordschool.org.uk
X-WR-CALDESC:Events for Twyford Church of England School
REFRESH-INTERVAL;VALUE=DURATION:PT1H
X-Robots-Tag:noindex
X-PUBLISHED-TTL:PT1H
BEGIN:VTIMEZONE
TZID:Europe/London
BEGIN:DAYLIGHT
TZOFFSETFROM:+0000
TZOFFSETTO:+0100
TZNAME:BST
DTSTART:20230326T010000
END:DAYLIGHT
BEGIN:STANDARD
TZOFFSETFROM:+0100
TZOFFSETTO:+0000
TZNAME:GMT
DTSTART:20231029T010000
END:STANDARD
BEGIN:DAYLIGHT
TZOFFSETFROM:+0000
TZOFFSETTO:+0100
TZNAME:BST
DTSTART:20240331T010000
END:DAYLIGHT
BEGIN:STANDARD
TZOFFSETFROM:+0100
TZOFFSETTO:+0000
TZNAME:GMT
DTSTART:20241027T010000
END:STANDARD
BEGIN:DAYLIGHT
TZOFFSETFROM:+0000
TZOFFSETTO:+0100
TZNAME:BST
DTSTART:20250330T010000
END:DAYLIGHT
BEGIN:STANDARD
TZOFFSETFROM:+0100
TZOFFSETTO:+0000
TZNAME:GMT
DTSTART:20251026T010000
END:STANDARD
END:VTIMEZONE
BEGIN:VEVENT
DTSTART;VALUE=DATE:20240202
DTEND;VALUE=DATE:20240203
DTSTAMP:20260421T004159
CREATED:20240201T101008Z
LAST-MODIFIED:20240201T101035Z
UID:8324-1706832000-1706918399@www.twyfordschool.org.uk
SUMMARY:Chinese Dragon Dance Workshop
DESCRIPTION:
URL:https://www.twyfordschool.org.uk/event/chinese-dragon-workshop/
END:VEVENT
BEGIN:VEVENT
DTSTART;TZID=Europe/London:20240206T154500
DTEND;TZID=Europe/London:20240206T154500
DTSTAMP:20260421T004159
CREATED:20240202T130149Z
LAST-MODIFIED:20240202T130149Z
UID:8327-1707234300-1707234300@www.twyfordschool.org.uk
SUMMARY:Away Football match vs Grendon Underwood
DESCRIPTION:
URL:https://www.twyfordschool.org.uk/event/away-football-match-vs-grendon-underwood/
END:VEVENT
BEGIN:VEVENT
DTSTART;TZID=Europe/London:20240209T031500
DTEND;TZID=Europe/London:20240209T031500
DTSTAMP:20260421T004159
CREATED:20230316T120759Z
LAST-MODIFIED:20230316T124826Z
UID:7618-1707448500-1707448500@www.twyfordschool.org.uk
SUMMARY:School breaks for Half Term
DESCRIPTION:
URL:https://www.twyfordschool.org.uk/event/school-breaks-for-half-term-3/
LOCATION:Twyford C of E School\, Church Street\, Twyford\, Buckinghamshire\, MK18 4EU\, United Kingdom
END:VEVENT
BEGIN:VEVENT
DTSTART;TZID=Europe/London:20240209T094500
DTEND;TZID=Europe/London:20240209T110000
DTSTAMP:20260421T004159
CREATED:20240104T124311Z
LAST-MODIFIED:20240104T124311Z
UID:8131-1707471900-1707476400@www.twyfordschool.org.uk
SUMMARY:Toddler Group
DESCRIPTION:
URL:https://www.twyfordschool.org.uk/event/toddler-group-33/
END:VEVENT
BEGIN:VEVENT
DTSTART;VALUE=DATE:20240219
DTEND;VALUE=DATE:20240220
DTSTAMP:20260421T004159
CREATED:20230316T114206Z
LAST-MODIFIED:20240105T110418Z
UID:7590-1708300800-1708387199@www.twyfordschool.org.uk
SUMMARY:Inset Day
DESCRIPTION:School closed to pupils
URL:https://www.twyfordschool.org.uk/event/inset-day-3/
END:VEVENT
BEGIN:VEVENT
DTSTART;VALUE=DATE:20240220
DTEND;VALUE=DATE:20240221
DTSTAMP:20260421T004159
CREATED:20230316T121840Z
LAST-MODIFIED:20230316T121840Z
UID:7620-1708387200-1708473599@www.twyfordschool.org.uk
SUMMARY:School Reopens
DESCRIPTION:School reopens after Half Term
URL:https://www.twyfordschool.org.uk/event/school-reopens-5/
END:VEVENT
BEGIN:VEVENT
DTSTART;TZID=Europe/London:20240223T094500
DTEND;TZID=Europe/London:20240223T110000
DTSTAMP:20260421T004159
CREATED:20240104T124354Z
LAST-MODIFIED:20240104T124354Z
UID:8133-1708681500-1708686000@www.twyfordschool.org.uk
SUMMARY:Toddler Group
DESCRIPTION:
URL:https://www.twyfordschool.org.uk/event/toddler-group-34/
END:VEVENT
BEGIN:VEVENT
DTSTART;TZID=Europe/London:20240228T153000
DTEND;TZID=Europe/London:20240228T173000
DTSTAMP:20260421T004159
CREATED:20240202T130330Z
LAST-MODIFIED:20240202T130330Z
UID:8329-1709134200-1709141400@www.twyfordschool.org.uk
SUMMARY:Parent book looks
DESCRIPTION:
URL:https://www.twyfordschool.org.uk/event/parent-book-looks/
END:VEVENT
BEGIN:VEVENT
DTSTART;TZID=Europe/London:20240229T153000
DTEND;TZID=Europe/London:20240229T173000
DTSTAMP:20260421T004159
CREATED:20240202T130359Z
LAST-MODIFIED:20240202T130359Z
UID:8331-1709220600-1709227800@www.twyfordschool.org.uk
SUMMARY:Parent book looks
DESCRIPTION:
URL:https://www.twyfordschool.org.uk/event/parent-book-looks-2/
END:VEVENT
END:VCALENDAR