BEGIN:VCALENDAR
VERSION:2.0
PRODID:-//Twyford Church of England School - ECPv6.15.20//NONSGML v1.0//EN
CALSCALE:GREGORIAN
METHOD:PUBLISH
X-WR-CALNAME:Twyford Church of England School
X-ORIGINAL-URL:https://www.twyfordschool.org.uk
X-WR-CALDESC:Events for Twyford Church of England School
REFRESH-INTERVAL;VALUE=DURATION:PT1H
X-Robots-Tag:noindex
X-PUBLISHED-TTL:PT1H
BEGIN:VTIMEZONE
TZID:Europe/London
BEGIN:DAYLIGHT
TZOFFSETFROM:+0000
TZOFFSETTO:+0100
TZNAME:BST
DTSTART:20220327T010000
END:DAYLIGHT
BEGIN:STANDARD
TZOFFSETFROM:+0100
TZOFFSETTO:+0000
TZNAME:GMT
DTSTART:20221030T010000
END:STANDARD
BEGIN:DAYLIGHT
TZOFFSETFROM:+0000
TZOFFSETTO:+0100
TZNAME:BST
DTSTART:20230326T010000
END:DAYLIGHT
BEGIN:STANDARD
TZOFFSETFROM:+0100
TZOFFSETTO:+0000
TZNAME:GMT
DTSTART:20231029T010000
END:STANDARD
BEGIN:DAYLIGHT
TZOFFSETFROM:+0000
TZOFFSETTO:+0100
TZNAME:BST
DTSTART:20240331T010000
END:DAYLIGHT
BEGIN:STANDARD
TZOFFSETFROM:+0100
TZOFFSETTO:+0000
TZNAME:GMT
DTSTART:20241027T010000
END:STANDARD
END:VTIMEZONE
BEGIN:VEVENT
DTSTART;TZID=Europe/London:20231201T094500
DTEND;TZID=Europe/London:20231201T110000
DTSTAMP:20260421T032942
CREATED:20230316T113649Z
LAST-MODIFIED:20230316T113649Z
UID:7580-1701423900-1701428400@www.twyfordschool.org.uk
SUMMARY:Toddler Group
DESCRIPTION:
URL:https://www.twyfordschool.org.uk/event/toddler-group-26/
END:VEVENT
BEGIN:VEVENT
DTSTART;TZID=Europe/London:20231208T094500
DTEND;TZID=Europe/London:20231208T110000
DTSTAMP:20260421T032942
CREATED:20230316T113726Z
LAST-MODIFIED:20230316T113726Z
UID:7582-1702028700-1702033200@www.twyfordschool.org.uk
SUMMARY:Toddler Group
DESCRIPTION:
URL:https://www.twyfordschool.org.uk/event/toddler-group-27/
END:VEVENT
BEGIN:VEVENT
DTSTART;VALUE=DATE:20231211
DTEND;VALUE=DATE:20231212
DTSTAMP:20260421T032942
CREATED:20231207T124539Z
LAST-MODIFIED:20231207T124539Z
UID:8096-1702252800-1702339199@www.twyfordschool.org.uk
SUMMARY:Christmas Jumper Day - Save the Children
DESCRIPTION:
URL:https://www.twyfordschool.org.uk/event/christmas-jumper-day-save-the-children/
END:VEVENT
BEGIN:VEVENT
DTSTART;TZID=Europe/London:20231211T183000
DTEND;TZID=Europe/London:20231211T193000
DTSTAMP:20260421T032942
CREATED:20231012T100834Z
LAST-MODIFIED:20231012T100848Z
UID:7992-1702319400-1702323000@www.twyfordschool.org.uk
SUMMARY:Key Stage 2 Christmas Carols at St. Mary's Church
DESCRIPTION:
URL:https://www.twyfordschool.org.uk/event/key-stage-2-christmas-carols-at-st-marys-church/
END:VEVENT
BEGIN:VEVENT
DTSTART;TZID=Europe/London:20231214T140000
DTEND;TZID=Europe/London:20231214T150000
DTSTAMP:20260421T032942
CREATED:20231012T101013Z
LAST-MODIFIED:20231102T124544Z
UID:7994-1702562400-1702566000@www.twyfordschool.org.uk
SUMMARY:Nativity
DESCRIPTION:Nursery/Reception/KS1
URL:https://www.twyfordschool.org.uk/event/nativity-nursery-reception-ks1/
END:VEVENT
BEGIN:VEVENT
DTSTART;TZID=Europe/London:20231214T173000
DTEND;TZID=Europe/London:20231214T183000
DTSTAMP:20260421T032942
CREATED:20231012T101118Z
LAST-MODIFIED:20231102T124515Z
UID:7996-1702575000-1702578600@www.twyfordschool.org.uk
SUMMARY:Nativity
DESCRIPTION:Nursery/Reception/KS1
URL:https://www.twyfordschool.org.uk/event/nativity-nursery-reception-ks1-2/
END:VEVENT
BEGIN:VEVENT
DTSTART;VALUE=DATE:20231215
DTEND;VALUE=DATE:20231216
DTSTAMP:20260421T032942
CREATED:20231012T101218Z
LAST-MODIFIED:20231012T101218Z
UID:7998-1702598400-1702684799@www.twyfordschool.org.uk
SUMMARY:Christmas lunch and party day
DESCRIPTION:
URL:https://www.twyfordschool.org.uk/event/christmas-lunch-and-party-day/
END:VEVENT
BEGIN:VEVENT
DTSTART;TZID=Europe/London:20231215T094500
DTEND;TZID=Europe/London:20231215T110000
DTSTAMP:20260421T032942
CREATED:20230316T113814Z
LAST-MODIFIED:20230316T113814Z
UID:7584-1702633500-1702638000@www.twyfordschool.org.uk
SUMMARY:Toddler Group
DESCRIPTION:
URL:https://www.twyfordschool.org.uk/event/toddler-group-28/
END:VEVENT
BEGIN:VEVENT
DTSTART;TZID=Europe/London:20231218T140000
DTEND;TZID=Europe/London:20231218T150000
DTSTAMP:20260421T032942
CREATED:20231207T124734Z
LAST-MODIFIED:20231207T124734Z
UID:8098-1702908000-1702911600@www.twyfordschool.org.uk
SUMMARY:Nursery Christmas Event
DESCRIPTION:
URL:https://www.twyfordschool.org.uk/event/nursery-christmas-event/
END:VEVENT
BEGIN:VEVENT
DTSTART;TZID=Europe/London:20231219T151500
DTEND;TZID=Europe/London:20231219T151500
DTSTAMP:20260421T032942
CREATED:20230316T114029Z
LAST-MODIFIED:20230316T130107Z
UID:7586-1702998900-1702998900@www.twyfordschool.org.uk
SUMMARY:End of Autumn Term
DESCRIPTION:School breaks for Christmas Holidays
URL:https://www.twyfordschool.org.uk/event/school-breaks-for-christmas-holiday/
LOCATION:Twyford C of E School\, Church Street\, Twyford\, Buckinghamshire\, MK18 4EU\, United Kingdom
END:VEVENT
BEGIN:VEVENT
DTSTART;TZID=Europe/London:20231220T090000
DTEND;TZID=Europe/London:20231220T150000
DTSTAMP:20260421T032942
CREATED:20231207T124816Z
LAST-MODIFIED:20231207T124816Z
UID:8100-1703062800-1703084400@www.twyfordschool.org.uk
SUMMARY:NXT Level Coaching Christmas Drop and Shop Camp
DESCRIPTION:
URL:https://www.twyfordschool.org.uk/event/nxt-level-coaching-christmas-drop-and-shop-camp/
END:VEVENT
BEGIN:VEVENT
DTSTART;TZID=Europe/London:20231221T090000
DTEND;TZID=Europe/London:20231221T150000
DTSTAMP:20260421T032942
CREATED:20231207T124855Z
LAST-MODIFIED:20231207T124855Z
UID:8102-1703149200-1703170800@www.twyfordschool.org.uk
SUMMARY:NXT Level Coaching Christmas Drop and Shop Camp
DESCRIPTION:
URL:https://www.twyfordschool.org.uk/event/nxt-level-coaching-christmas-drop-and-shop-camp-2/
END:VEVENT
END:VCALENDAR