BEGIN:VCALENDAR
VERSION:2.0
PRODID:-//Twyford Church of England School - ECPv6.15.20//NONSGML v1.0//EN
CALSCALE:GREGORIAN
METHOD:PUBLISH
X-ORIGINAL-URL:https://www.twyfordschool.org.uk
X-WR-CALDESC:Events for Twyford Church of England School
REFRESH-INTERVAL;VALUE=DURATION:PT1H
X-Robots-Tag:noindex
X-PUBLISHED-TTL:PT1H
BEGIN:VTIMEZONE
TZID:Europe/London
BEGIN:DAYLIGHT
TZOFFSETFROM:+0000
TZOFFSETTO:+0100
TZNAME:BST
DTSTART:20220327T010000
END:DAYLIGHT
BEGIN:STANDARD
TZOFFSETFROM:+0100
TZOFFSETTO:+0000
TZNAME:GMT
DTSTART:20221030T010000
END:STANDARD
BEGIN:DAYLIGHT
TZOFFSETFROM:+0000
TZOFFSETTO:+0100
TZNAME:BST
DTSTART:20230326T010000
END:DAYLIGHT
BEGIN:STANDARD
TZOFFSETFROM:+0100
TZOFFSETTO:+0000
TZNAME:GMT
DTSTART:20231029T010000
END:STANDARD
BEGIN:DAYLIGHT
TZOFFSETFROM:+0000
TZOFFSETTO:+0100
TZNAME:BST
DTSTART:20240331T010000
END:DAYLIGHT
BEGIN:STANDARD
TZOFFSETFROM:+0100
TZOFFSETTO:+0000
TZNAME:GMT
DTSTART:20241027T010000
END:STANDARD
END:VTIMEZONE
BEGIN:VEVENT
DTSTART;VALUE=DATE:20230704
DTEND;VALUE=DATE:20230705
DTSTAMP:20260421T102838
CREATED:20230316T102727Z
LAST-MODIFIED:20230316T112032Z
UID:7512-1688428800-1688515199@www.twyfordschool.org.uk
SUMMARY:Transition Day
DESCRIPTION:All children  spending time in their new classes
URL:https://www.twyfordschool.org.uk/event/transition-day-children-spending-time-in-their-new-classes/
END:VEVENT
BEGIN:VEVENT
DTSTART;VALUE=DATE:20230706
DTEND;VALUE=DATE:20230707
DTSTAMP:20260421T102838
CREATED:20230316T102752Z
LAST-MODIFIED:20230316T102752Z
UID:7514-1688601600-1688687999@www.twyfordschool.org.uk
SUMMARY:Sports Day
DESCRIPTION:
URL:https://www.twyfordschool.org.uk/event/sports-day/
END:VEVENT
BEGIN:VEVENT
DTSTART;TZID=Europe/London:20230707T094500
DTEND;TZID=Europe/London:20230707T110000
DTSTAMP:20260421T102838
CREATED:20230316T102827Z
LAST-MODIFIED:20230316T112306Z
UID:7516-1688723100-1688727600@www.twyfordschool.org.uk
SUMMARY:Toddler Group
DESCRIPTION:
URL:https://www.twyfordschool.org.uk/event/toddler-group-14/
END:VEVENT
BEGIN:VEVENT
DTSTART;VALUE=DATE:20230711
DTEND;VALUE=DATE:20230712
DTSTAMP:20260421T102838
CREATED:20230316T102908Z
LAST-MODIFIED:20230316T102908Z
UID:7518-1689033600-1689119999@www.twyfordschool.org.uk
SUMMARY:KS2 Performance
DESCRIPTION:
URL:https://www.twyfordschool.org.uk/event/ks2-performance/
END:VEVENT
BEGIN:VEVENT
DTSTART;VALUE=DATE:20230712
DTEND;VALUE=DATE:20230713
DTSTAMP:20260421T102838
CREATED:20230316T103119Z
LAST-MODIFIED:20230316T103119Z
UID:7520-1689120000-1689206399@www.twyfordschool.org.uk
SUMMARY:KS2 Performance
DESCRIPTION:
URL:https://www.twyfordschool.org.uk/event/ks2-performance-2/
END:VEVENT
BEGIN:VEVENT
DTSTART;TZID=Europe/London:20230712T133000
DTEND;TZID=Europe/London:20230712T133000
DTSTAMP:20260421T102838
CREATED:20230629T122006Z
LAST-MODIFIED:20230629T122118Z
UID:7827-1689168600-1689168600@www.twyfordschool.org.uk
SUMMARY:Nursery End of Year Picnic
DESCRIPTION:
URL:https://www.twyfordschool.org.uk/event/nursery-end-of-year-picnic/
END:VEVENT
BEGIN:VEVENT
DTSTART;TZID=Europe/London:20230713T133000
DTEND;TZID=Europe/London:20230713T133000
DTSTAMP:20260421T102838
CREATED:20230629T122229Z
LAST-MODIFIED:20230629T122229Z
UID:7829-1689255000-1689255000@www.twyfordschool.org.uk
SUMMARY:Reception End of Year Picnic
DESCRIPTION:
URL:https://www.twyfordschool.org.uk/event/reception-end-of-year-picnic/
END:VEVENT
BEGIN:VEVENT
DTSTART;TZID=Europe/London:20230714T094500
DTEND;TZID=Europe/London:20230714T110000
DTSTAMP:20260421T102838
CREATED:20230316T103206Z
LAST-MODIFIED:20230316T112235Z
UID:7522-1689327900-1689332400@www.twyfordschool.org.uk
SUMMARY:Toddler Group
DESCRIPTION:
URL:https://www.twyfordschool.org.uk/event/toddler-group-15/
END:VEVENT
BEGIN:VEVENT
DTSTART;TZID=Europe/London:20230720T151500
DTEND;TZID=Europe/London:20230720T151500
DTSTAMP:20260421T102838
CREATED:20230316T103257Z
LAST-MODIFIED:20230316T125942Z
UID:7524-1689866100-1689866100@www.twyfordschool.org.uk
SUMMARY:End of Summer Term
DESCRIPTION:School breaks up for Summer Holiday
URL:https://www.twyfordschool.org.uk/event/school-breaks-up-for-summer-holiday/
LOCATION:Twyford C of E School\, Church Street\, Twyford\, Buckinghamshire\, MK18 4EU\, United Kingdom
END:VEVENT
END:VCALENDAR