BEGIN:VCALENDAR
VERSION:2.0
PRODID:-//Twyford Church of England School - ECPv6.15.20//NONSGML v1.0//EN
CALSCALE:GREGORIAN
METHOD:PUBLISH
X-ORIGINAL-URL:https://www.twyfordschool.org.uk
X-WR-CALDESC:Events for Twyford Church of England School
REFRESH-INTERVAL;VALUE=DURATION:PT1H
X-Robots-Tag:noindex
X-PUBLISHED-TTL:PT1H
BEGIN:VTIMEZONE
TZID:Europe/London
BEGIN:DAYLIGHT
TZOFFSETFROM:+0000
TZOFFSETTO:+0100
TZNAME:BST
DTSTART:20220327T010000
END:DAYLIGHT
BEGIN:STANDARD
TZOFFSETFROM:+0100
TZOFFSETTO:+0000
TZNAME:GMT
DTSTART:20221030T010000
END:STANDARD
BEGIN:DAYLIGHT
TZOFFSETFROM:+0000
TZOFFSETTO:+0100
TZNAME:BST
DTSTART:20230326T010000
END:DAYLIGHT
BEGIN:STANDARD
TZOFFSETFROM:+0100
TZOFFSETTO:+0000
TZNAME:GMT
DTSTART:20231029T010000
END:STANDARD
BEGIN:DAYLIGHT
TZOFFSETFROM:+0000
TZOFFSETTO:+0100
TZNAME:BST
DTSTART:20240331T010000
END:DAYLIGHT
BEGIN:STANDARD
TZOFFSETFROM:+0100
TZOFFSETTO:+0000
TZNAME:GMT
DTSTART:20241027T010000
END:STANDARD
END:VTIMEZONE
BEGIN:VEVENT
DTSTART;VALUE=DATE:20230605
DTEND;VALUE=DATE:20230606
DTSTAMP:20260421T114947
CREATED:20230316T101731Z
LAST-MODIFIED:20230316T120108Z
UID:7490-1685923200-1686009599@www.twyfordschool.org.uk
SUMMARY:School Reopens
DESCRIPTION:School reopens after half term
URL:https://www.twyfordschool.org.uk/event/school-reopens/
END:VEVENT
BEGIN:VEVENT
DTSTART;VALUE=DATE:20230607
DTEND;VALUE=DATE:20230608
DTSTAMP:20260421T114947
CREATED:20230316T102051Z
LAST-MODIFIED:20230316T102051Z
UID:7494-1686096000-1686182399@www.twyfordschool.org.uk
SUMMARY:Year 3/4 Swimming
DESCRIPTION:
URL:https://www.twyfordschool.org.uk/event/year-3-4-swimming-5/
END:VEVENT
BEGIN:VEVENT
DTSTART;VALUE=DATE:20230607
DTEND;VALUE=DATE:20230608
DTSTAMP:20260421T114947
CREATED:20230324T110253Z
LAST-MODIFIED:20230324T110851Z
UID:7695-1686096000-1686182399@www.twyfordschool.org.uk
SUMMARY:Year 5/6 visit to the Houses of Parliament
DESCRIPTION:
URL:https://www.twyfordschool.org.uk/event/year-5-6-visit-to-the-houses-of-parliament/
END:VEVENT
BEGIN:VEVENT
DTSTART;TZID=Europe/London:20230609T094500
DTEND;TZID=Europe/London:20230609T110000
DTSTAMP:20260421T114947
CREATED:20230316T102138Z
LAST-MODIFIED:20230316T102138Z
UID:7496-1686303900-1686308400@www.twyfordschool.org.uk
SUMMARY:Toddler Group
DESCRIPTION:
URL:https://www.twyfordschool.org.uk/event/toddler-group-10/
END:VEVENT
BEGIN:VEVENT
DTSTART;VALUE=DATE:20230614
DTEND;VALUE=DATE:20230615
DTSTAMP:20260421T114947
CREATED:20230316T102202Z
LAST-MODIFIED:20230316T102202Z
UID:7498-1686700800-1686787199@www.twyfordschool.org.uk
SUMMARY:Year 3/4 Swimming
DESCRIPTION:
URL:https://www.twyfordschool.org.uk/event/year-3-4-swimming-6/
END:VEVENT
BEGIN:VEVENT
DTSTART;TZID=Europe/London:20230616T094500
DTEND;TZID=Europe/London:20230616T110000
DTSTAMP:20260421T114947
CREATED:20230316T102236Z
LAST-MODIFIED:20230316T103456Z
UID:7500-1686908700-1686913200@www.twyfordschool.org.uk
SUMMARY:Toddler Group
DESCRIPTION:
URL:https://www.twyfordschool.org.uk/event/toddler-group-11/
END:VEVENT
BEGIN:VEVENT
DTSTART;VALUE=DATE:20230621
DTEND;VALUE=DATE:20230622
DTSTAMP:20260421T114947
CREATED:20230316T102259Z
LAST-MODIFIED:20230316T102259Z
UID:7502-1687305600-1687391999@www.twyfordschool.org.uk
SUMMARY:Year 3/4 Swimming
DESCRIPTION:
URL:https://www.twyfordschool.org.uk/event/year-3-4-swimming-7/
END:VEVENT
BEGIN:VEVENT
DTSTART;VALUE=DATE:20230623
DTEND;VALUE=DATE:20230624
DTSTAMP:20260421T114947
CREATED:20230511T112804Z
LAST-MODIFIED:20230511T112804Z
UID:7793-1687478400-1687564799@www.twyfordschool.org.uk
SUMMARY:Krispy Kreme Doughnut Day
DESCRIPTION:
URL:https://www.twyfordschool.org.uk/event/krispy-kreme-doughnut-day/
END:VEVENT
BEGIN:VEVENT
DTSTART;TZID=Europe/London:20230623T094500
DTEND;TZID=Europe/London:20230623T110000
DTSTAMP:20260421T114947
CREATED:20230316T102338Z
LAST-MODIFIED:20230316T102338Z
UID:7504-1687513500-1687518000@www.twyfordschool.org.uk
SUMMARY:Toddler Group
DESCRIPTION:
URL:https://www.twyfordschool.org.uk/event/toddler-group-12/
END:VEVENT
BEGIN:VEVENT
DTSTART;VALUE=DATE:20230626
DTEND;VALUE=DATE:20230627
DTSTAMP:20260421T114947
CREATED:20230316T102451Z
LAST-MODIFIED:20230316T114647Z
UID:7506-1687737600-1687823999@www.twyfordschool.org.uk
SUMMARY:Year 5 Bikeability Training
DESCRIPTION:Bikeability Cycle Training
URL:https://www.twyfordschool.org.uk/event/year-5-bikeability-cycle-training/
END:VEVENT
BEGIN:VEVENT
DTSTART;VALUE=DATE:20230627
DTEND;VALUE=DATE:20230628
DTSTAMP:20260421T114947
CREATED:20230316T105023Z
LAST-MODIFIED:20230316T105206Z
UID:7530-1687824000-1687910399@www.twyfordschool.org.uk
SUMMARY:Year 5 Bikeability Training
DESCRIPTION:Bikeability Cycle Training
URL:https://www.twyfordschool.org.uk/event/year-5-bikeability-training/
END:VEVENT
BEGIN:VEVENT
DTSTART;VALUE=DATE:20230628
DTEND;VALUE=DATE:20230629
DTSTAMP:20260421T114947
CREATED:20230316T102528Z
LAST-MODIFIED:20230316T102528Z
UID:7508-1687910400-1687996799@www.twyfordschool.org.uk
SUMMARY:Year 3/4 Swimming
DESCRIPTION:
URL:https://www.twyfordschool.org.uk/event/year-3-4-swimming-8/
END:VEVENT
BEGIN:VEVENT
DTSTART;VALUE=DATE:20230628
DTEND;VALUE=DATE:20230629
DTSTAMP:20260421T114947
CREATED:20230316T105048Z
LAST-MODIFIED:20230316T105218Z
UID:7532-1687910400-1687996799@www.twyfordschool.org.uk
SUMMARY:Year 5 Bikeability Training
DESCRIPTION:Bikeability Cycle Training
URL:https://www.twyfordschool.org.uk/event/year-5-bikeability-training-2/
END:VEVENT
BEGIN:VEVENT
DTSTART;VALUE=DATE:20230629
DTEND;VALUE=DATE:20230630
DTSTAMP:20260421T114947
CREATED:20230316T105104Z
LAST-MODIFIED:20230316T105235Z
UID:7534-1687996800-1688083199@www.twyfordschool.org.uk
SUMMARY:Year 5 Bikeability Training
DESCRIPTION:Bikeability Cycle Training
URL:https://www.twyfordschool.org.uk/event/year-5-bikeability-training-3/
END:VEVENT
BEGIN:VEVENT
DTSTART;TZID=Europe/London:20230630T094500
DTEND;TZID=Europe/London:20230630T110000
DTSTAMP:20260421T114947
CREATED:20230316T102559Z
LAST-MODIFIED:20230316T102559Z
UID:7510-1688118300-1688122800@www.twyfordschool.org.uk
SUMMARY:Toddler Group
DESCRIPTION:
URL:https://www.twyfordschool.org.uk/event/toddler-group-13/
END:VEVENT
END:VCALENDAR