BEGIN:VCALENDAR
VERSION:2.0
PRODID:-//Twyford Church of England School - ECPv6.15.20//NONSGML v1.0//EN
CALSCALE:GREGORIAN
METHOD:PUBLISH
X-WR-CALNAME:Twyford Church of England School
X-ORIGINAL-URL:https://www.twyfordschool.org.uk
X-WR-CALDESC:Events for Twyford Church of England School
REFRESH-INTERVAL;VALUE=DURATION:PT1H
X-Robots-Tag:noindex
X-PUBLISHED-TTL:PT1H
BEGIN:VTIMEZONE
TZID:Europe/London
BEGIN:DAYLIGHT
TZOFFSETFROM:+0000
TZOFFSETTO:+0100
TZNAME:BST
DTSTART:20220327T010000
END:DAYLIGHT
BEGIN:STANDARD
TZOFFSETFROM:+0100
TZOFFSETTO:+0000
TZNAME:GMT
DTSTART:20221030T010000
END:STANDARD
BEGIN:DAYLIGHT
TZOFFSETFROM:+0000
TZOFFSETTO:+0100
TZNAME:BST
DTSTART:20230326T010000
END:DAYLIGHT
BEGIN:STANDARD
TZOFFSETFROM:+0100
TZOFFSETTO:+0000
TZNAME:GMT
DTSTART:20231029T010000
END:STANDARD
BEGIN:DAYLIGHT
TZOFFSETFROM:+0000
TZOFFSETTO:+0100
TZNAME:BST
DTSTART:20240331T010000
END:DAYLIGHT
BEGIN:STANDARD
TZOFFSETFROM:+0100
TZOFFSETTO:+0000
TZNAME:GMT
DTSTART:20241027T010000
END:STANDARD
END:VTIMEZONE
BEGIN:VEVENT
DTSTART;TZID=Europe/London:20230316T090000
DTEND;TZID=Europe/London:20230316T090000
DTSTAMP:20260421T160629
CREATED:20230310T111641Z
LAST-MODIFIED:20230310T112102Z
UID:7398-1678957200-1678957200@www.twyfordschool.org.uk
SUMMARY:FOTS Meeting at Twyford Coffee Shop
DESCRIPTION:
URL:https://www.twyfordschool.org.uk/event/fots-meeting-at-twyford-coffee-shop/
END:VEVENT
BEGIN:VEVENT
DTSTART;TZID=Europe/London:20230317T094500
DTEND;TZID=Europe/London:20230317T110000
DTSTAMP:20260421T160629
CREATED:20230310T144159Z
LAST-MODIFIED:20230310T144159Z
UID:7418-1679046300-1679050800@www.twyfordschool.org.uk
SUMMARY:Toddler Group
DESCRIPTION:
URL:https://www.twyfordschool.org.uk/event/toddler-group-3/
END:VEVENT
BEGIN:VEVENT
DTSTART;TZID=Europe/London:20230317T140000
DTEND;TZID=Europe/London:20230317T140000
DTSTAMP:20260421T160629
CREATED:20230310T112825Z
LAST-MODIFIED:20230310T112825Z
UID:7400-1679061600-1679061600@www.twyfordschool.org.uk
SUMMARY:EYFS Nursery & Reception Mother's Day Tea Party
DESCRIPTION:
URL:https://www.twyfordschool.org.uk/event/eyfs-nursery-reception-mothers-day-tea-party/
END:VEVENT
BEGIN:VEVENT
DTSTART;TZID=Europe/London:20230322T153000
DTEND;TZID=Europe/London:20230322T173000
DTSTAMP:20260421T160629
CREATED:20230310T144817Z
LAST-MODIFIED:20230310T144914Z
UID:7426-1679499000-1679506200@www.twyfordschool.org.uk
SUMMARY:Children's books available for parents to view
DESCRIPTION:
URL:https://www.twyfordschool.org.uk/event/childrens-books-available-for-parents-to-view/
END:VEVENT
BEGIN:VEVENT
DTSTART;TZID=Europe/London:20230323T153000
DTEND;TZID=Europe/London:20230323T173000
DTSTAMP:20260421T160629
CREATED:20230310T145024Z
LAST-MODIFIED:20230310T145024Z
UID:7428-1679585400-1679592600@www.twyfordschool.org.uk
SUMMARY:Children's books available for parents to view
DESCRIPTION:
URL:https://www.twyfordschool.org.uk/event/childrens-books-available-for-parents-to-view-2/
END:VEVENT
BEGIN:VEVENT
DTSTART;VALUE=DATE:20230324
DTEND;VALUE=DATE:20230325
DTSTAMP:20260421T160629
CREATED:20230310T145208Z
LAST-MODIFIED:20230310T145208Z
UID:7430-1679616000-1679702399@www.twyfordschool.org.uk
SUMMARY:Year 5/6 visit to Bletchley Park
DESCRIPTION:
URL:https://www.twyfordschool.org.uk/event/year-5-6-visit-to-bletchley-park/
END:VEVENT
BEGIN:VEVENT
DTSTART;TZID=Europe/London:20230324T094500
DTEND;TZID=Europe/London:20230324T110000
DTSTAMP:20260421T160629
CREATED:20230310T144051Z
LAST-MODIFIED:20230310T144051Z
UID:7416-1679651100-1679655600@www.twyfordschool.org.uk
SUMMARY:Toddler Group
DESCRIPTION:
URL:https://www.twyfordschool.org.uk/event/toddler-group-2/
END:VEVENT
BEGIN:VEVENT
DTSTART;TZID=Europe/London:20230327T153000
DTEND;TZID=Europe/London:20230327T183000
DTSTAMP:20260421T160629
CREATED:20230310T145254Z
LAST-MODIFIED:20230310T145254Z
UID:7432-1679931000-1679941800@www.twyfordschool.org.uk
SUMMARY:Parent Consultations
DESCRIPTION:
URL:https://www.twyfordschool.org.uk/event/parent-consultations/
END:VEVENT
BEGIN:VEVENT
DTSTART;TZID=Europe/London:20230329T153000
DTEND;TZID=Europe/London:20230329T183000
DTSTAMP:20260421T160629
CREATED:20230310T145339Z
LAST-MODIFIED:20230310T145339Z
UID:7434-1680103800-1680114600@www.twyfordschool.org.uk
SUMMARY:Parent Consultations
DESCRIPTION:
URL:https://www.twyfordschool.org.uk/event/parent-consultations-2/
END:VEVENT
BEGIN:VEVENT
DTSTART;TZID=Europe/London:20230330T091500
DTEND;TZID=Europe/London:20230330T091500
DTSTAMP:20260421T160629
CREATED:20230310T145432Z
LAST-MODIFIED:20230310T145432Z
UID:7436-1680167700-1680167700@www.twyfordschool.org.uk
SUMMARY:Easter Church Service
DESCRIPTION:
URL:https://www.twyfordschool.org.uk/event/easter-church-service/
END:VEVENT
BEGIN:VEVENT
DTSTART;TZID=Europe/London:20230331T094500
DTEND;TZID=Europe/London:20230331T110000
DTSTAMP:20260421T160629
CREATED:20230310T144354Z
LAST-MODIFIED:20230310T144354Z
UID:7422-1680255900-1680260400@www.twyfordschool.org.uk
SUMMARY:Toddler Group
DESCRIPTION:
URL:https://www.twyfordschool.org.uk/event/toddler-group-5/
END:VEVENT
BEGIN:VEVENT
DTSTART;TZID=Europe/London:20230331T151500
DTEND;TZID=Europe/London:20230331T151500
DTSTAMP:20260421T160629
CREATED:20230309T121711Z
LAST-MODIFIED:20230316T123001Z
UID:7184-1680275700-1680275700@www.twyfordschool.org.uk
SUMMARY:End of Spring Term
DESCRIPTION:School breaks up for Easter Holiday
URL:https://www.twyfordschool.org.uk/event/end-of-spring-term/
LOCATION:Twyford C of E School\, Church Street\, Twyford\, Buckinghamshire\, MK18 4EU\, United Kingdom
END:VEVENT
END:VCALENDAR