BEGIN:VCALENDAR
VERSION:2.0
PRODID:-//Twyford Church of England School - ECPv6.15.20//NONSGML v1.0//EN
CALSCALE:GREGORIAN
METHOD:PUBLISH
X-ORIGINAL-URL:https://www.twyfordschool.org.uk
X-WR-CALDESC:Events for Twyford Church of England School
REFRESH-INTERVAL;VALUE=DURATION:PT1H
X-Robots-Tag:noindex
X-PUBLISHED-TTL:PT1H
BEGIN:VTIMEZONE
TZID:UTC
BEGIN:STANDARD
TZOFFSETFROM:+0000
TZOFFSETTO:+0000
TZNAME:UTC
DTSTART:20210101T000000
END:STANDARD
END:VTIMEZONE
BEGIN:VEVENT
DTSTART;VALUE=DATE:20220705
DTEND;VALUE=DATE:20220706
DTSTAMP:20260422T042255
CREATED:20210524T135721Z
LAST-MODIFIED:20210524T135721Z
UID:6359-1656979200-1657065599@www.twyfordschool.org.uk
SUMMARY:Proposed Transition Day
DESCRIPTION:
URL:https://www.twyfordschool.org.uk/event/proposed-transition-day/
END:VEVENT
BEGIN:VEVENT
DTSTART;VALUE=DATE:20220719
DTEND;VALUE=DATE:20220720
DTSTAMP:20260422T042255
CREATED:20210524T135757Z
LAST-MODIFIED:20211013T092936Z
UID:6363-1658188800-1658275199@www.twyfordschool.org.uk
SUMMARY:School breaks up for summer holiday
DESCRIPTION:
URL:https://www.twyfordschool.org.uk/event/school-breaks-up-for-summer-holiday-2/
END:VEVENT
BEGIN:VEVENT
DTSTART;VALUE=DATE:20220720
DTEND;VALUE=DATE:20220721
DTSTAMP:20260422T042255
CREATED:20211013T092951Z
LAST-MODIFIED:20211013T092951Z
UID:6604-1658275200-1658361599@www.twyfordschool.org.uk
SUMMARY:INSET Day
DESCRIPTION:
URL:https://www.twyfordschool.org.uk/event/inset-day-18/
END:VEVENT
BEGIN:VEVENT
DTSTART;VALUE=DATE:20220721
DTEND;VALUE=DATE:20220722
DTSTAMP:20260422T042255
CREATED:20211013T093017Z
LAST-MODIFIED:20211013T093017Z
UID:6606-1658361600-1658447999@www.twyfordschool.org.uk
SUMMARY:INSET Day
DESCRIPTION:
URL:https://www.twyfordschool.org.uk/event/inset-day-19/
END:VEVENT
BEGIN:VEVENT
DTSTART;VALUE=DATE:20220722
DTEND;VALUE=DATE:20220723
DTSTAMP:20260422T042255
CREATED:20211201T144840Z
LAST-MODIFIED:20211201T144840Z
UID:6757-1658448000-1658534399@www.twyfordschool.org.uk
SUMMARY:Summer Holidays
DESCRIPTION:
URL:https://www.twyfordschool.org.uk/event/summer-holidays/
END:VEVENT
BEGIN:VEVENT
DTSTART;VALUE=DATE:20220725
DTEND;VALUE=DATE:20220726
DTSTAMP:20260422T042255
CREATED:20211201T144901Z
LAST-MODIFIED:20211201T144901Z
UID:6759-1658707200-1658793599@www.twyfordschool.org.uk
SUMMARY:Summer Holidays
DESCRIPTION:
URL:https://www.twyfordschool.org.uk/event/summer-holidays-2/
END:VEVENT
BEGIN:VEVENT
DTSTART;VALUE=DATE:20220726
DTEND;VALUE=DATE:20220727
DTSTAMP:20260422T042255
CREATED:20211201T145539Z
LAST-MODIFIED:20211201T145539Z
UID:6761-1658793600-1658879999@www.twyfordschool.org.uk
SUMMARY:Summer Holidays
DESCRIPTION:
URL:https://www.twyfordschool.org.uk/event/summer-holidays-3/
END:VEVENT
BEGIN:VEVENT
DTSTART;VALUE=DATE:20220727
DTEND;VALUE=DATE:20220728
DTSTAMP:20260422T042255
CREATED:20211201T145612Z
LAST-MODIFIED:20211201T145612Z
UID:6763-1658880000-1658966399@www.twyfordschool.org.uk
SUMMARY:Summer Holidays
DESCRIPTION:
URL:https://www.twyfordschool.org.uk/event/summer-holidays-4/
END:VEVENT
BEGIN:VEVENT
DTSTART;VALUE=DATE:20220728
DTEND;VALUE=DATE:20220729
DTSTAMP:20260422T042255
CREATED:20211201T145643Z
LAST-MODIFIED:20211201T145643Z
UID:6765-1658966400-1659052799@www.twyfordschool.org.uk
SUMMARY:Summer Holidays
DESCRIPTION:
URL:https://www.twyfordschool.org.uk/event/summer-holidays-5/
END:VEVENT
BEGIN:VEVENT
DTSTART;VALUE=DATE:20220729
DTEND;VALUE=DATE:20220730
DTSTAMP:20260422T042255
CREATED:20211201T145709Z
LAST-MODIFIED:20211201T145709Z
UID:6768-1659052800-1659139199@www.twyfordschool.org.uk
SUMMARY:Summer Holidays
DESCRIPTION:
URL:https://www.twyfordschool.org.uk/event/summer-holidays-6/
END:VEVENT
END:VCALENDAR