BEGIN:VCALENDAR
VERSION:2.0
PRODID:-//Twyford Church of England School - ECPv6.15.20//NONSGML v1.0//EN
CALSCALE:GREGORIAN
METHOD:PUBLISH
X-WR-CALNAME:Twyford Church of England School
X-ORIGINAL-URL:https://www.twyfordschool.org.uk
X-WR-CALDESC:Events for Twyford Church of England School
REFRESH-INTERVAL;VALUE=DURATION:PT1H
X-Robots-Tag:noindex
X-PUBLISHED-TTL:PT1H
BEGIN:VTIMEZONE
TZID:Europe/London
BEGIN:DAYLIGHT
TZOFFSETFROM:+0000
TZOFFSETTO:+0100
TZNAME:BST
DTSTART:20230326T010000
END:DAYLIGHT
BEGIN:STANDARD
TZOFFSETFROM:+0100
TZOFFSETTO:+0000
TZNAME:GMT
DTSTART:20231029T010000
END:STANDARD
BEGIN:DAYLIGHT
TZOFFSETFROM:+0000
TZOFFSETTO:+0100
TZNAME:BST
DTSTART:20240331T010000
END:DAYLIGHT
BEGIN:STANDARD
TZOFFSETFROM:+0100
TZOFFSETTO:+0000
TZNAME:GMT
DTSTART:20241027T010000
END:STANDARD
BEGIN:DAYLIGHT
TZOFFSETFROM:+0000
TZOFFSETTO:+0100
TZNAME:BST
DTSTART:20250330T010000
END:DAYLIGHT
BEGIN:STANDARD
TZOFFSETFROM:+0100
TZOFFSETTO:+0000
TZNAME:GMT
DTSTART:20251026T010000
END:STANDARD
END:VTIMEZONE
BEGIN:VEVENT
DTSTART;VALUE=DATE:20240416
DTEND;VALUE=DATE:20240417
DTSTAMP:20260421T021749
CREATED:20231006T100351Z
LAST-MODIFIED:20240105T112323Z
UID:7931-1713225600-1713311999@www.twyfordschool.org.uk
SUMMARY:Primary School Place Offer Day
DESCRIPTION:School offer day for Reception September 2024 places
URL:https://www.twyfordschool.org.uk/event/primary-place-offer-day/
END:VEVENT
BEGIN:VEVENT
DTSTART;VALUE=DATE:20240415
DTEND;VALUE=DATE:20240416
DTSTAMP:20260421T021749
CREATED:20230316T122112Z
LAST-MODIFIED:20230316T132057Z
UID:7624-1713139200-1713225599@www.twyfordschool.org.uk
SUMMARY:Start of Summer Term
DESCRIPTION:School reopens after Easter Holidays
URL:https://www.twyfordschool.org.uk/event/start-of-summer-term/
LOCATION:Twyford C of E School\, Church Street\, Twyford\, Buckinghamshire\, MK18 4EU\, United Kingdom
END:VEVENT
BEGIN:VEVENT
DTSTART;TZID=Europe/London:20240328T151500
DTEND;TZID=Europe/London:20240328T151500
DTSTAMP:20260421T021749
CREATED:20230316T122042Z
LAST-MODIFIED:20230316T130321Z
UID:7622-1711638900-1711638900@www.twyfordschool.org.uk
SUMMARY:End of Spring Term
DESCRIPTION:School breaks for Easter Holidays
URL:https://www.twyfordschool.org.uk/event/end-of-spring-term-2/
END:VEVENT
BEGIN:VEVENT
DTSTART;VALUE=DATE:20240328
DTEND;VALUE=DATE:20240329
DTSTAMP:20260421T021749
CREATED:20240315T141014Z
LAST-MODIFIED:20240315T141014Z
UID:8389-1711584000-1711670399@www.twyfordschool.org.uk
SUMMARY:Nightingale House Fundraiser Day
DESCRIPTION:
URL:https://www.twyfordschool.org.uk/event/nightingale-house-fundraiser-day/
END:VEVENT
BEGIN:VEVENT
DTSTART;TZID=Europe/London:20240327T091500
DTEND;TZID=Europe/London:20240327T091500
DTSTAMP:20260421T021749
CREATED:20240315T140850Z
LAST-MODIFIED:20240315T140850Z
UID:8387-1711530900-1711530900@www.twyfordschool.org.uk
SUMMARY:Easter Service - St Mary's Church
DESCRIPTION:All parents are welcome to join us there.
URL:https://www.twyfordschool.org.uk/event/easter-service-st-marys-church/
END:VEVENT
BEGIN:VEVENT
DTSTART;TZID=Europe/London:20240322T094500
DTEND;TZID=Europe/London:20240322T110000
DTSTAMP:20260421T021749
CREATED:20240104T125025Z
LAST-MODIFIED:20240315T143915Z
UID:8147-1711100700-1711105200@www.twyfordschool.org.uk
SUMMARY:Baby and Toddler Group
DESCRIPTION:
URL:https://www.twyfordschool.org.uk/event/toddler-group-40/
END:VEVENT
BEGIN:VEVENT
DTSTART;VALUE=DATE:20240321
DTEND;VALUE=DATE:20240322
DTSTAMP:20260421T021749
CREATED:20230316T114549Z
LAST-MODIFIED:20230316T114738Z
UID:7602-1710979200-1711065599@www.twyfordschool.org.uk
SUMMARY:Year 5 Bikeability Training
DESCRIPTION:Bikeability Cycle Training
URL:https://www.twyfordschool.org.uk/event/year-5-bikeability-training-7/
END:VEVENT
BEGIN:VEVENT
DTSTART;VALUE=DATE:20240320
DTEND;VALUE=DATE:20240321
DTSTAMP:20260421T021749
CREATED:20230316T114531Z
LAST-MODIFIED:20230316T114725Z
UID:7600-1710892800-1710979199@www.twyfordschool.org.uk
SUMMARY:Year 5 Bikeability Training
DESCRIPTION:Bikeability Cycle Training
URL:https://www.twyfordschool.org.uk/event/year-5-bikeability-training-6/
END:VEVENT
BEGIN:VEVENT
DTSTART;VALUE=DATE:20240319
DTEND;VALUE=DATE:20240320
DTSTAMP:20260421T021749
CREATED:20230316T114513Z
LAST-MODIFIED:20230316T114712Z
UID:7598-1710806400-1710892799@www.twyfordschool.org.uk
SUMMARY:Year 5 Bikeability Training
DESCRIPTION:Bikeability Cycle Training
URL:https://www.twyfordschool.org.uk/event/year-5-bikeability-training-5/
END:VEVENT
BEGIN:VEVENT
DTSTART;VALUE=DATE:20240318
DTEND;VALUE=DATE:20240319
DTSTAMP:20260421T021749
CREATED:20230316T114453Z
LAST-MODIFIED:20230316T114701Z
UID:7596-1710720000-1710806399@www.twyfordschool.org.uk
SUMMARY:Year 5 Bikeability Training
DESCRIPTION:Bikeability Cycle Training
URL:https://www.twyfordschool.org.uk/event/year-5-bikeability-training-4/
END:VEVENT
BEGIN:VEVENT
DTSTART;TZID=Europe/London:20240315T094500
DTEND;TZID=Europe/London:20240315T110000
DTSTAMP:20260421T021749
CREATED:20240104T124659Z
LAST-MODIFIED:20240104T124659Z
UID:8141-1710495900-1710500400@www.twyfordschool.org.uk
SUMMARY:Toddler Group
DESCRIPTION:
URL:https://www.twyfordschool.org.uk/event/toddler-group-37/
END:VEVENT
BEGIN:VEVENT
DTSTART;VALUE=DATE:20240312
DTEND;VALUE=DATE:20240313
DTSTAMP:20260421T021749
CREATED:20240223T113214Z
LAST-MODIFIED:20240223T113341Z
UID:8353-1710201600-1710287999@www.twyfordschool.org.uk
SUMMARY:Oxford Natural History Museum Trip Y3 & Y4
DESCRIPTION:
URL:https://www.twyfordschool.org.uk/event/y3-y4-oxford-natural-history-museum-trip/
END:VEVENT
BEGIN:VEVENT
DTSTART;TZID=Europe/London:20240308T120000
DTEND;TZID=Europe/London:20240308T151500
DTSTAMP:20260421T021749
CREATED:20240202T131332Z
LAST-MODIFIED:20240223T113029Z
UID:8337-1709899200-1709910900@www.twyfordschool.org.uk
SUMMARY:World Book Day
DESCRIPTION:Afternoon of activities
URL:https://www.twyfordschool.org.uk/event/world-book-day/
END:VEVENT
BEGIN:VEVENT
DTSTART;TZID=Europe/London:20240308T094500
DTEND;TZID=Europe/London:20240308T110000
DTSTAMP:20260421T021749
CREATED:20240104T124523Z
LAST-MODIFIED:20240104T124523Z
UID:8137-1709891100-1709895600@www.twyfordschool.org.uk
SUMMARY:Toddler Group
DESCRIPTION:
URL:https://www.twyfordschool.org.uk/event/toddler-group-35/
END:VEVENT
BEGIN:VEVENT
DTSTART;TZID=Europe/London:20240307T153000
DTEND;TZID=Europe/London:20240307T190000
DTSTAMP:20260421T021749
CREATED:20240202T130723Z
LAST-MODIFIED:20240202T130723Z
UID:8335-1709825400-1709838000@www.twyfordschool.org.uk
SUMMARY:Parent meeting with Teachers
DESCRIPTION:
URL:https://www.twyfordschool.org.uk/event/parent-meeting-with-teachers-2/
END:VEVENT
BEGIN:VEVENT
DTSTART;TZID=Europe/London:20240306T154500
DTEND;TZID=Europe/London:20240306T170000
DTSTAMP:20260421T021749
CREATED:20240223T114456Z
LAST-MODIFIED:20240223T114456Z
UID:8362-1709739900-1709744400@www.twyfordschool.org.uk
SUMMARY:Away football match vs Marsh Gibbon
DESCRIPTION:
URL:https://www.twyfordschool.org.uk/event/away-football-match-vs-marsh-gibbon/
END:VEVENT
BEGIN:VEVENT
DTSTART;TZID=Europe/London:20240306T153000
DTEND;TZID=Europe/London:20240306T190000
DTSTAMP:20260421T021749
CREATED:20240202T130655Z
LAST-MODIFIED:20240202T130655Z
UID:8333-1709739000-1709751600@www.twyfordschool.org.uk
SUMMARY:Parent meeting with Teachers
DESCRIPTION:
URL:https://www.twyfordschool.org.uk/event/parent-meeting-with-teachers/
END:VEVENT
BEGIN:VEVENT
DTSTART;TZID=Europe/London:20240301T094500
DTEND;TZID=Europe/London:20240301T110000
DTSTAMP:20260421T021749
CREATED:20240104T124626Z
LAST-MODIFIED:20240104T124626Z
UID:8139-1709286300-1709290800@www.twyfordschool.org.uk
SUMMARY:Toddler Group
DESCRIPTION:
URL:https://www.twyfordschool.org.uk/event/toddler-group-36/
END:VEVENT
BEGIN:VEVENT
DTSTART;TZID=Europe/London:20240229T153000
DTEND;TZID=Europe/London:20240229T173000
DTSTAMP:20260421T021749
CREATED:20240202T130359Z
LAST-MODIFIED:20240202T130359Z
UID:8331-1709220600-1709227800@www.twyfordschool.org.uk
SUMMARY:Parent book looks
DESCRIPTION:
URL:https://www.twyfordschool.org.uk/event/parent-book-looks-2/
END:VEVENT
BEGIN:VEVENT
DTSTART;TZID=Europe/London:20240228T153000
DTEND;TZID=Europe/London:20240228T173000
DTSTAMP:20260421T021749
CREATED:20240202T130330Z
LAST-MODIFIED:20240202T130330Z
UID:8329-1709134200-1709141400@www.twyfordschool.org.uk
SUMMARY:Parent book looks
DESCRIPTION:
URL:https://www.twyfordschool.org.uk/event/parent-book-looks/
END:VEVENT
BEGIN:VEVENT
DTSTART;TZID=Europe/London:20240223T094500
DTEND;TZID=Europe/London:20240223T110000
DTSTAMP:20260421T021749
CREATED:20240104T124354Z
LAST-MODIFIED:20240104T124354Z
UID:8133-1708681500-1708686000@www.twyfordschool.org.uk
SUMMARY:Toddler Group
DESCRIPTION:
URL:https://www.twyfordschool.org.uk/event/toddler-group-34/
END:VEVENT
BEGIN:VEVENT
DTSTART;VALUE=DATE:20240220
DTEND;VALUE=DATE:20240221
DTSTAMP:20260421T021749
CREATED:20230316T121840Z
LAST-MODIFIED:20230316T121840Z
UID:7620-1708387200-1708473599@www.twyfordschool.org.uk
SUMMARY:School Reopens
DESCRIPTION:School reopens after Half Term
URL:https://www.twyfordschool.org.uk/event/school-reopens-5/
END:VEVENT
BEGIN:VEVENT
DTSTART;VALUE=DATE:20240219
DTEND;VALUE=DATE:20240220
DTSTAMP:20260421T021749
CREATED:20230316T114206Z
LAST-MODIFIED:20240105T110418Z
UID:7590-1708300800-1708387199@www.twyfordschool.org.uk
SUMMARY:Inset Day
DESCRIPTION:School closed to pupils
URL:https://www.twyfordschool.org.uk/event/inset-day-3/
END:VEVENT
BEGIN:VEVENT
DTSTART;TZID=Europe/London:20240209T094500
DTEND;TZID=Europe/London:20240209T110000
DTSTAMP:20260421T021749
CREATED:20240104T124311Z
LAST-MODIFIED:20240104T124311Z
UID:8131-1707471900-1707476400@www.twyfordschool.org.uk
SUMMARY:Toddler Group
DESCRIPTION:
URL:https://www.twyfordschool.org.uk/event/toddler-group-33/
END:VEVENT
BEGIN:VEVENT
DTSTART;TZID=Europe/London:20240209T031500
DTEND;TZID=Europe/London:20240209T031500
DTSTAMP:20260421T021749
CREATED:20230316T120759Z
LAST-MODIFIED:20230316T124826Z
UID:7618-1707448500-1707448500@www.twyfordschool.org.uk
SUMMARY:School breaks for Half Term
DESCRIPTION:
URL:https://www.twyfordschool.org.uk/event/school-breaks-for-half-term-3/
LOCATION:Twyford C of E School\, Church Street\, Twyford\, Buckinghamshire\, MK18 4EU\, United Kingdom
END:VEVENT
BEGIN:VEVENT
DTSTART;TZID=Europe/London:20240206T154500
DTEND;TZID=Europe/London:20240206T154500
DTSTAMP:20260421T021749
CREATED:20240202T130149Z
LAST-MODIFIED:20240202T130149Z
UID:8327-1707234300-1707234300@www.twyfordschool.org.uk
SUMMARY:Away Football match vs Grendon Underwood
DESCRIPTION:
URL:https://www.twyfordschool.org.uk/event/away-football-match-vs-grendon-underwood/
END:VEVENT
BEGIN:VEVENT
DTSTART;VALUE=DATE:20240202
DTEND;VALUE=DATE:20240203
DTSTAMP:20260421T021749
CREATED:20240201T101008Z
LAST-MODIFIED:20240201T101035Z
UID:8324-1706832000-1706918399@www.twyfordschool.org.uk
SUMMARY:Chinese Dragon Dance Workshop
DESCRIPTION:
URL:https://www.twyfordschool.org.uk/event/chinese-dragon-workshop/
END:VEVENT
BEGIN:VEVENT
DTSTART;VALUE=DATE:20240129
DTEND;VALUE=DATE:20240130
DTSTAMP:20260421T021749
CREATED:20231006T100245Z
LAST-MODIFIED:20240105T104956Z
UID:7929-1706486400-1706572799@www.twyfordschool.org.uk
SUMMARY:Deadline Primary School application
DESCRIPTION:Deadline for address evidence to go with primary school application if moving into or within Buckinghamshire
URL:https://www.twyfordschool.org.uk/event/deadline-for-address-evidence-to-go-with-primary-school-application-if-moving-into-or-within-buckinghamshire/
END:VEVENT
BEGIN:VEVENT
DTSTART;TZID=Europe/London:20240126T094500
DTEND;TZID=Europe/London:20240126T110000
DTSTAMP:20260421T021749
CREATED:20240104T124134Z
LAST-MODIFIED:20240104T124134Z
UID:8127-1706262300-1706266800@www.twyfordschool.org.uk
SUMMARY:Toddler Group
DESCRIPTION:
URL:https://www.twyfordschool.org.uk/event/toddler-group-31/
END:VEVENT
BEGIN:VEVENT
DTSTART;VALUE=DATE:20240115
DTEND;VALUE=DATE:20240116
DTSTAMP:20260421T021749
CREATED:20231006T094812Z
LAST-MODIFIED:20240105T105853Z
UID:7927-1705276800-1705363199@www.twyfordschool.org.uk
SUMMARY:Deadline Primary place application
DESCRIPTION:Deadline to submit primary school place application
URL:https://www.twyfordschool.org.uk/event/deadline-to-submit-primary-school-place-application/
END:VEVENT
END:VCALENDAR