BEGIN:VCALENDAR
VERSION:2.0
PRODID:-//Twyford Church of England School - ECPv6.15.20//NONSGML v1.0//EN
CALSCALE:GREGORIAN
METHOD:PUBLISH
X-WR-CALNAME:Twyford Church of England School
X-ORIGINAL-URL:https://www.twyfordschool.org.uk
X-WR-CALDESC:Events for Twyford Church of England School
REFRESH-INTERVAL;VALUE=DURATION:PT1H
X-Robots-Tag:noindex
X-PUBLISHED-TTL:PT1H
BEGIN:VTIMEZONE
TZID:Europe/London
BEGIN:DAYLIGHT
TZOFFSETFROM:+0000
TZOFFSETTO:+0100
TZNAME:BST
DTSTART:20230326T010000
END:DAYLIGHT
BEGIN:STANDARD
TZOFFSETFROM:+0100
TZOFFSETTO:+0000
TZNAME:GMT
DTSTART:20231029T010000
END:STANDARD
BEGIN:DAYLIGHT
TZOFFSETFROM:+0000
TZOFFSETTO:+0100
TZNAME:BST
DTSTART:20240331T010000
END:DAYLIGHT
BEGIN:STANDARD
TZOFFSETFROM:+0100
TZOFFSETTO:+0000
TZNAME:GMT
DTSTART:20241027T010000
END:STANDARD
BEGIN:DAYLIGHT
TZOFFSETFROM:+0000
TZOFFSETTO:+0100
TZNAME:BST
DTSTART:20250330T010000
END:DAYLIGHT
BEGIN:STANDARD
TZOFFSETFROM:+0100
TZOFFSETTO:+0000
TZNAME:GMT
DTSTART:20251026T010000
END:STANDARD
BEGIN:DAYLIGHT
TZOFFSETFROM:+0000
TZOFFSETTO:+0100
TZNAME:BST
DTSTART:20260329T010000
END:DAYLIGHT
BEGIN:STANDARD
TZOFFSETFROM:+0100
TZOFFSETTO:+0000
TZNAME:GMT
DTSTART:20261025T010000
END:STANDARD
END:VTIMEZONE
BEGIN:VEVENT
DTSTART;VALUE=DATE:20250214
DTEND;VALUE=DATE:20250215
DTSTAMP:20260420T081856
CREATED:20250110T134448Z
LAST-MODIFIED:20250110T134448Z
UID:8922-1739491200-1739577599@www.twyfordschool.org.uk
SUMMARY:Baby and Toddler Group
DESCRIPTION:
URL:https://www.twyfordschool.org.uk/event/baby-and-toddler-group-19/
END:VEVENT
BEGIN:VEVENT
DTSTART;VALUE=DATE:20250214
DTEND;VALUE=DATE:20250215
DTSTAMP:20260420T081856
CREATED:20231006T101944Z
LAST-MODIFIED:20231006T101944Z
UID:7948-1739491200-1739577599@www.twyfordschool.org.uk
SUMMARY:School breaks for half term
DESCRIPTION:
URL:https://www.twyfordschool.org.uk/event/school-breaks-for-half-term-5/
END:VEVENT
BEGIN:VEVENT
DTSTART;VALUE=DATE:20250207
DTEND;VALUE=DATE:20250208
DTSTAMP:20260420T081856
CREATED:20250110T134429Z
LAST-MODIFIED:20250110T134429Z
UID:8920-1738886400-1738972799@www.twyfordschool.org.uk
SUMMARY:Baby and Toddler Group
DESCRIPTION:
URL:https://www.twyfordschool.org.uk/event/baby-and-toddler-group-18/
END:VEVENT
BEGIN:VEVENT
DTSTART;TZID=Europe/London:20250206T080000
DTEND;TZID=Europe/London:20250206T170000
DTSTAMP:20260420T081856
CREATED:20250206T115945Z
LAST-MODIFIED:20250206T115945Z
UID:9010-1738828800-1738861200@www.twyfordschool.org.uk
SUMMARY:Swimming Y3-Y5
DESCRIPTION:Swimming Year3\, Year 4 and Year 5
URL:https://www.twyfordschool.org.uk/event/swimming-y3-y5-9/
END:VEVENT
BEGIN:VEVENT
DTSTART;VALUE=DATE:20250204
DTEND;VALUE=DATE:20250205
DTSTAMP:20260420T081856
CREATED:20250110T134549Z
LAST-MODIFIED:20250110T134549Z
UID:8924-1738627200-1738713599@www.twyfordschool.org.uk
SUMMARY:Bucks Health Screening R & Y6
DESCRIPTION:Reception and Year 6
URL:https://www.twyfordschool.org.uk/event/bucks-health-screening-r-y6/
END:VEVENT
BEGIN:VEVENT
DTSTART;TZID=Europe/London:20250203T080000
DTEND;TZID=Europe/London:20250210T160000
DTSTAMP:20260420T081856
CREATED:20250123T115916Z
LAST-MODIFIED:20250123T120014Z
UID:8948-1738569600-1739203200@www.twyfordschool.org.uk
SUMMARY:Virtual Balloon Race
DESCRIPTION:Churchill Fundraiser
URL:https://www.twyfordschool.org.uk/event/virtual-balloon-race/
END:VEVENT
BEGIN:VEVENT
DTSTART;VALUE=DATE:20250131
DTEND;VALUE=DATE:20250201
DTSTAMP:20260420T081856
CREATED:20250110T134409Z
LAST-MODIFIED:20250110T134409Z
UID:8918-1738281600-1738367999@www.twyfordschool.org.uk
SUMMARY:Baby and Toddler Group
DESCRIPTION:
URL:https://www.twyfordschool.org.uk/event/baby-and-toddler-group-17/
END:VEVENT
BEGIN:VEVENT
DTSTART;VALUE=DATE:20250129
DTEND;VALUE=DATE:20250130
DTSTAMP:20260420T081856
CREATED:20250123T115810Z
LAST-MODIFIED:20250123T115810Z
UID:8946-1738108800-1738195199@www.twyfordschool.org.uk
SUMMARY:UK Astronomy Planetarium Y5&6
DESCRIPTION:UK Astronomy Planetarium visiting Y5&6 in school
URL:https://www.twyfordschool.org.uk/event/uk-astronomy-planetarium-y56/
END:VEVENT
BEGIN:VEVENT
DTSTART;VALUE=DATE:20250129
DTEND;VALUE=DATE:20250130
DTSTAMP:20260420T081856
CREATED:20241212T153052Z
LAST-MODIFIED:20241212T153846Z
UID:8848-1738108800-1738195199@www.twyfordschool.org.uk
SUMMARY:The Living Rainforest Trip
DESCRIPTION:Y3 & Y4
URL:https://www.twyfordschool.org.uk/event/visit-to-the-living-rainforest-year-34/
END:VEVENT
BEGIN:VEVENT
DTSTART;VALUE=DATE:20250124
DTEND;VALUE=DATE:20250125
DTSTAMP:20260420T081856
CREATED:20250110T134356Z
LAST-MODIFIED:20250110T134356Z
UID:8916-1737676800-1737763199@www.twyfordschool.org.uk
SUMMARY:Baby and Toddler Group
DESCRIPTION:
URL:https://www.twyfordschool.org.uk/event/baby-and-toddler-group-16/
END:VEVENT
BEGIN:VEVENT
DTSTART;VALUE=DATE:20250117
DTEND;VALUE=DATE:20250118
DTSTAMP:20260420T081856
CREATED:20250110T134327Z
LAST-MODIFIED:20250110T134327Z
UID:8914-1737072000-1737158399@www.twyfordschool.org.uk
SUMMARY:Baby and Toddler Group
DESCRIPTION:
URL:https://www.twyfordschool.org.uk/event/baby-and-toddler-group-14/
END:VEVENT
BEGIN:VEVENT
DTSTART;VALUE=DATE:20250107
DTEND;VALUE=DATE:20250108
DTSTAMP:20260420T081856
CREATED:20231006T101837Z
LAST-MODIFIED:20240315T142508Z
UID:7946-1736208000-1736294399@www.twyfordschool.org.uk
SUMMARY:School re-opens after Christmas holiday
DESCRIPTION:
URL:https://www.twyfordschool.org.uk/event/school-re-opens-after-christmas-holiday/
END:VEVENT
BEGIN:VEVENT
DTSTART;VALUE=DATE:20250106
DTEND;VALUE=DATE:20250107
DTSTAMP:20260420T081856
CREATED:20240315T142157Z
LAST-MODIFIED:20240315T142157Z
UID:8410-1736121600-1736207999@www.twyfordschool.org.uk
SUMMARY:Inset Day
DESCRIPTION:
URL:https://www.twyfordschool.org.uk/event/inset-day-8/
END:VEVENT
BEGIN:VEVENT
DTSTART;VALUE=DATE:20241220
DTEND;VALUE=DATE:20241221
DTSTAMP:20260420T081856
CREATED:20231006T101737Z
LAST-MODIFIED:20231006T103154Z
UID:7944-1734652800-1734739199@www.twyfordschool.org.uk
SUMMARY:School breaks up for Christmas holiday
DESCRIPTION:
URL:https://www.twyfordschool.org.uk/event/school-breaks-up-for-christmas-holiday/
END:VEVENT
BEGIN:VEVENT
DTSTART;TZID=Europe/London:20241218T140000
DTEND;TZID=Europe/London:20241218T140000
DTSTAMP:20260420T081856
CREATED:20241114T102731Z
LAST-MODIFIED:20241114T103159Z
UID:8802-1734530400-1734530400@www.twyfordschool.org.uk
SUMMARY:Nursery/Preschool Christmas Singalong
DESCRIPTION:Nursery and preschool Christmas singalong and activities 2:00pm
URL:https://www.twyfordschool.org.uk/event/nursery-preschool-christmas-singalong/
END:VEVENT
BEGIN:VEVENT
DTSTART;TZID=Europe/London:20241216T183000
DTEND;TZID=Europe/London:20241216T183000
DTSTAMP:20260420T081856
CREATED:20240927T115931Z
LAST-MODIFIED:20240927T115931Z
UID:8697-1734373800-1734373800@www.twyfordschool.org.uk
SUMMARY:KS2 Carol Service
DESCRIPTION:KS2 Carol Service at St Marys Church – 6:30pm
URL:https://www.twyfordschool.org.uk/event/ks2-carol-service/
END:VEVENT
BEGIN:VEVENT
DTSTART;VALUE=DATE:20241216
DTEND;VALUE=DATE:20241217
DTSTAMP:20260420T081856
CREATED:20241108T111627Z
LAST-MODIFIED:20241114T103300Z
UID:8775-1734307200-1734393599@www.twyfordschool.org.uk
SUMMARY:Christmas Jumper Day
DESCRIPTION:Save the Children Christmas Jumper Day
URL:https://www.twyfordschool.org.uk/event/christmas-jumper-day/
END:VEVENT
BEGIN:VEVENT
DTSTART;TZID=Europe/London:20241213T094500
DTEND;TZID=Europe/London:20241213T110000
DTSTAMP:20260420T081856
CREATED:20241017T124650Z
LAST-MODIFIED:20241017T124650Z
UID:8740-1734083100-1734087600@www.twyfordschool.org.uk
SUMMARY:Baby and Toddler Group
DESCRIPTION:Last session before Christmas holidays
URL:https://www.twyfordschool.org.uk/event/baby-and-toddler-group-13/
END:VEVENT
BEGIN:VEVENT
DTSTART;VALUE=DATE:20241213
DTEND;VALUE=DATE:20241214
DTSTAMP:20260420T081856
CREATED:20241114T102549Z
LAST-MODIFIED:20241114T102615Z
UID:8799-1734048000-1734134399@www.twyfordschool.org.uk
SUMMARY:Christmas Lunch
DESCRIPTION:Lunches to be ordered with Fresh Start
URL:https://www.twyfordschool.org.uk/event/christmas-lunch/
END:VEVENT
BEGIN:VEVENT
DTSTART;TZID=Europe/London:20241212T173000
DTEND;TZID=Europe/London:20241212T173000
DTSTAMP:20260420T081856
CREATED:20241114T135059Z
LAST-MODIFIED:20241114T135059Z
UID:8805-1734024600-1734024600@www.twyfordschool.org.uk
SUMMARY:Nativity - Reception & KS1
DESCRIPTION:
URL:https://www.twyfordschool.org.uk/event/nativity-reception-ks1-2/
END:VEVENT
BEGIN:VEVENT
DTSTART;TZID=Europe/London:20241212T140000
DTEND;TZID=Europe/London:20241212T140000
DTSTAMP:20260420T081856
CREATED:20241114T102007Z
LAST-MODIFIED:20241114T135223Z
UID:8797-1734012000-1734012000@www.twyfordschool.org.uk
SUMMARY:Nativity - Reception & KS1
DESCRIPTION:
URL:https://www.twyfordschool.org.uk/event/nativity-reception-ks1/
END:VEVENT
BEGIN:VEVENT
DTSTART;TZID=Europe/London:20241206T094500
DTEND;TZID=Europe/London:20241206T110000
DTSTAMP:20260420T081856
CREATED:20241017T124557Z
LAST-MODIFIED:20241017T124557Z
UID:8738-1733478300-1733482800@www.twyfordschool.org.uk
SUMMARY:Baby and Toddler Group
DESCRIPTION:
URL:https://www.twyfordschool.org.uk/event/baby-and-toddler-group-12/
END:VEVENT
BEGIN:VEVENT
DTSTART;TZID=Europe/London:20241129T094500
DTEND;TZID=Europe/London:20241129T110000
DTSTAMP:20260420T081856
CREATED:20241017T124515Z
LAST-MODIFIED:20241017T124515Z
UID:8736-1732873500-1732878000@www.twyfordschool.org.uk
SUMMARY:Baby and Toddler Group
DESCRIPTION:
URL:https://www.twyfordschool.org.uk/event/baby-and-toddler-group-11/
END:VEVENT
BEGIN:VEVENT
DTSTART;VALUE=DATE:20241128
DTEND;VALUE=DATE:20241129
DTSTAMP:20260420T081856
CREATED:20241114T101812Z
LAST-MODIFIED:20241114T101812Z
UID:8795-1732752000-1732838399@www.twyfordschool.org.uk
SUMMARY:KS2 Choir Singing Stroke Association
DESCRIPTION:Choir singing for the Stoke Association at Lace Hill Community Centre
URL:https://www.twyfordschool.org.uk/event/ks2-choir-singing-stroke-association/
END:VEVENT
BEGIN:VEVENT
DTSTART;TZID=Europe/London:20241127T091500
DTEND;TZID=Europe/London:20241127T091500
DTSTAMP:20260420T081856
CREATED:20241114T101607Z
LAST-MODIFIED:20241114T103339Z
UID:8793-1732698900-1732698900@www.twyfordschool.org.uk
SUMMARY:Advent Service
DESCRIPTION:St Mary’s Church
URL:https://www.twyfordschool.org.uk/event/advent-service/
END:VEVENT
BEGIN:VEVENT
DTSTART;TZID=Europe/London:20241122T094500
DTEND;TZID=Europe/London:20241122T110000
DTSTAMP:20260420T081856
CREATED:20241017T124445Z
LAST-MODIFIED:20241017T124445Z
UID:8734-1732268700-1732273200@www.twyfordschool.org.uk
SUMMARY:Baby and Toddler Group
DESCRIPTION:
URL:https://www.twyfordschool.org.uk/event/baby-and-toddler-group-10/
END:VEVENT
BEGIN:VEVENT
DTSTART;TZID=Europe/London:20241115T094500
DTEND;TZID=Europe/London:20241115T110000
DTSTAMP:20260420T081856
CREATED:20241017T124405Z
LAST-MODIFIED:20241017T124405Z
UID:8731-1731663900-1731668400@www.twyfordschool.org.uk
SUMMARY:Baby and Toddler Group
DESCRIPTION:
URL:https://www.twyfordschool.org.uk/event/baby-and-toddler-group-9/
END:VEVENT
BEGIN:VEVENT
DTSTART;TZID=Europe/London:20241108T094500
DTEND;TZID=Europe/London:20241108T110000
DTSTAMP:20260420T081856
CREATED:20241017T124332Z
LAST-MODIFIED:20241024T112817Z
UID:8729-1731059100-1731063600@www.twyfordschool.org.uk
SUMMARY:Baby and Toddler Group
DESCRIPTION:
URL:https://www.twyfordschool.org.uk/event/baby-and-toddler-group-8/
END:VEVENT
BEGIN:VEVENT
DTSTART;VALUE=DATE:20241107
DTEND;VALUE=DATE:20241108
DTSTAMP:20260420T081856
CREATED:20240927T113845Z
LAST-MODIFIED:20241024T112857Z
UID:8691-1730937600-1731023999@www.twyfordschool.org.uk
SUMMARY:School Disco
DESCRIPTION:
URL:https://www.twyfordschool.org.uk/event/fots-disco/
END:VEVENT
BEGIN:VEVENT
DTSTART;VALUE=DATE:20241104
DTEND;VALUE=DATE:20241105
DTSTAMP:20260420T081856
CREATED:20231006T101615Z
LAST-MODIFIED:20231006T101615Z
UID:7942-1730678400-1730764799@www.twyfordschool.org.uk
SUMMARY:School re-opens after half term
DESCRIPTION:
URL:https://www.twyfordschool.org.uk/event/school-re-opens-after-half-term/
END:VEVENT
END:VCALENDAR