BEGIN:VCALENDAR
VERSION:2.0
PRODID:-//Twyford Church of England School - ECPv6.15.20//NONSGML v1.0//EN
CALSCALE:GREGORIAN
METHOD:PUBLISH
X-WR-CALNAME:Twyford Church of England School
X-ORIGINAL-URL:https://www.twyfordschool.org.uk
X-WR-CALDESC:Events for Twyford Church of England School
REFRESH-INTERVAL;VALUE=DURATION:PT1H
X-Robots-Tag:noindex
X-PUBLISHED-TTL:PT1H
BEGIN:VTIMEZONE
TZID:Europe/London
BEGIN:DAYLIGHT
TZOFFSETFROM:+0000
TZOFFSETTO:+0100
TZNAME:BST
DTSTART:20220327T010000
END:DAYLIGHT
BEGIN:STANDARD
TZOFFSETFROM:+0100
TZOFFSETTO:+0000
TZNAME:GMT
DTSTART:20221030T010000
END:STANDARD
BEGIN:DAYLIGHT
TZOFFSETFROM:+0000
TZOFFSETTO:+0100
TZNAME:BST
DTSTART:20230326T010000
END:DAYLIGHT
BEGIN:STANDARD
TZOFFSETFROM:+0100
TZOFFSETTO:+0000
TZNAME:GMT
DTSTART:20231029T010000
END:STANDARD
BEGIN:DAYLIGHT
TZOFFSETFROM:+0000
TZOFFSETTO:+0100
TZNAME:BST
DTSTART:20240331T010000
END:DAYLIGHT
BEGIN:STANDARD
TZOFFSETFROM:+0100
TZOFFSETTO:+0000
TZNAME:GMT
DTSTART:20241027T010000
END:STANDARD
END:VTIMEZONE
BEGIN:VEVENT
DTSTART;VALUE=DATE:20231030
DTEND;VALUE=DATE:20231031
DTSTAMP:20260421T054718
CREATED:20230316T113327Z
LAST-MODIFIED:20230316T113327Z
UID:7570-1698624000-1698710399@www.twyfordschool.org.uk
SUMMARY:School Reopens
DESCRIPTION:
URL:https://www.twyfordschool.org.uk/event/school-reopens-3/
END:VEVENT
BEGIN:VEVENT
DTSTART;TZID=Europe/London:20231020T094500
DTEND;TZID=Europe/London:20231020T110000
DTSTAMP:20260421T054718
CREATED:20230316T113254Z
LAST-MODIFIED:20230316T113254Z
UID:7568-1697795100-1697799600@www.twyfordschool.org.uk
SUMMARY:Toddler Group
DESCRIPTION:
URL:https://www.twyfordschool.org.uk/event/toddler-group-21/
END:VEVENT
BEGIN:VEVENT
DTSTART;TZID=Europe/London:20231020T031500
DTEND;TZID=Europe/London:20231020T031500
DTSTAMP:20260421T054718
CREATED:20230316T113218Z
LAST-MODIFIED:20230316T124627Z
UID:7566-1697771700-1697771700@www.twyfordschool.org.uk
SUMMARY:School breaks for Half Term
DESCRIPTION:
URL:https://www.twyfordschool.org.uk/event/school-breaks-for-half-term-2/
LOCATION:Twyford C of E School\, Church Street\, Twyford\, Buckinghamshire\, MK18 4EU\, United Kingdom
END:VEVENT
BEGIN:VEVENT
DTSTART;TZID=Europe/London:20231019T153000
DTEND;TZID=Europe/London:20231019T173000
DTSTAMP:20260421T054718
CREATED:20231006T132630Z
LAST-MODIFIED:20231006T132630Z
UID:7977-1697729400-1697736600@www.twyfordschool.org.uk
SUMMARY:Open classrooms for parents to view their child’s work.
DESCRIPTION:
URL:https://www.twyfordschool.org.uk/event/open-classrooms-for-parents-to-view-their-childs-work-2/
END:VEVENT
BEGIN:VEVENT
DTSTART;TZID=Europe/London:20231018T153000
DTEND;TZID=Europe/London:20231018T173000
DTSTAMP:20260421T054718
CREATED:20231006T132544Z
LAST-MODIFIED:20231006T132544Z
UID:7972-1697643000-1697650200@www.twyfordschool.org.uk
SUMMARY:Open classrooms for parents to view their child’s work.
DESCRIPTION:
URL:https://www.twyfordschool.org.uk/event/open-classrooms-for-parents-to-view-their-childs-work/
END:VEVENT
BEGIN:VEVENT
DTSTART;TZID=Europe/London:20231013T094500
DTEND;TZID=Europe/London:20231013T110000
DTSTAMP:20260421T054718
CREATED:20230316T113123Z
LAST-MODIFIED:20230316T113123Z
UID:7564-1697190300-1697194800@www.twyfordschool.org.uk
SUMMARY:Toddler Group
DESCRIPTION:
URL:https://www.twyfordschool.org.uk/event/toddler-group-20/
END:VEVENT
BEGIN:VEVENT
DTSTART;TZID=Europe/London:20231012T173000
DTEND;TZID=Europe/London:20231012T201500
DTSTAMP:20260421T054718
CREATED:20231006T112815Z
LAST-MODIFIED:20231006T113458Z
UID:7963-1697131800-1697141700@www.twyfordschool.org.uk
SUMMARY:FOTS - School Disco
DESCRIPTION:Reception to Year 2  Time: 5:30-6:30pm \nYear 3 to Year 6  Time: 7:00-8:15pm
URL:https://www.twyfordschool.org.uk/event/fots-school-disco/
END:VEVENT
BEGIN:VEVENT
DTSTART;TZID=Europe/London:20231012T093000
DTEND;TZID=Europe/London:20231012T093000
DTSTAMP:20260421T054718
CREATED:20231006T113054Z
LAST-MODIFIED:20231006T113242Z
UID:7966-1697103000-1697103000@www.twyfordschool.org.uk
SUMMARY:Harvest Festival at St. Mary’s Church
DESCRIPTION:Harvest Festival at St. Mary’s Church\, 9.30am.  Parents are welcome to join us for this collective worship if they would like to.
URL:https://www.twyfordschool.org.uk/event/harvest-festival-at-st-marys-church/
END:VEVENT
BEGIN:VEVENT
DTSTART;TZID=Europe/London:20231006T094500
DTEND;TZID=Europe/London:20231006T110000
DTSTAMP:20260421T054718
CREATED:20230316T113054Z
LAST-MODIFIED:20230316T113054Z
UID:7562-1696585500-1696590000@www.twyfordschool.org.uk
SUMMARY:Toddler Group
DESCRIPTION:
URL:https://www.twyfordschool.org.uk/event/toddler-group-19/
END:VEVENT
BEGIN:VEVENT
DTSTART;TZID=Europe/London:20230929T094500
DTEND;TZID=Europe/London:20230929T110000
DTSTAMP:20260421T054718
CREATED:20230316T113014Z
LAST-MODIFIED:20230316T113014Z
UID:7560-1695980700-1695985200@www.twyfordschool.org.uk
SUMMARY:Toddler Group
DESCRIPTION:
URL:https://www.twyfordschool.org.uk/event/toddler-group-18/
END:VEVENT
BEGIN:VEVENT
DTSTART;VALUE=DATE:20230926
DTEND;VALUE=DATE:20230927
DTSTAMP:20260421T054718
CREATED:20230316T112943Z
LAST-MODIFIED:20230316T112943Z
UID:7558-1695686400-1695772799@www.twyfordschool.org.uk
SUMMARY:School Photographs
DESCRIPTION:
URL:https://www.twyfordschool.org.uk/event/school-photographs/
END:VEVENT
BEGIN:VEVENT
DTSTART;TZID=Europe/London:20230922T094500
DTEND;TZID=Europe/London:20230922T110000
DTSTAMP:20260421T054718
CREATED:20230316T112915Z
LAST-MODIFIED:20230316T112915Z
UID:7556-1695375900-1695380400@www.twyfordschool.org.uk
SUMMARY:Toddler Group
DESCRIPTION:
URL:https://www.twyfordschool.org.uk/event/toddler-group-17/
END:VEVENT
BEGIN:VEVENT
DTSTART;TZID=Europe/London:20230915T094500
DTEND;TZID=Europe/London:20230915T110000
DTSTAMP:20260421T054718
CREATED:20230316T112840Z
LAST-MODIFIED:20230316T112840Z
UID:7554-1694771100-1694775600@www.twyfordschool.org.uk
SUMMARY:Toddler Group
DESCRIPTION:
URL:https://www.twyfordschool.org.uk/event/toddler-group-16/
END:VEVENT
BEGIN:VEVENT
DTSTART;TZID=Europe/London:20230908T094500
DTEND;TZID=Europe/London:20230908T110000
DTSTAMP:20260421T054718
CREATED:20230316T112748Z
LAST-MODIFIED:20230316T112748Z
UID:7552-1694166300-1694170800@www.twyfordschool.org.uk
SUMMARY:Toddler Group
DESCRIPTION:
URL:https://www.twyfordschool.org.uk/event/toddler-group-9/
END:VEVENT
BEGIN:VEVENT
DTSTART;VALUE=DATE:20230905
DTEND;VALUE=DATE:20230906
DTSTAMP:20260421T054718
CREATED:20230316T112548Z
LAST-MODIFIED:20230316T125357Z
UID:7550-1693872000-1693958399@www.twyfordschool.org.uk
SUMMARY:Start of Autumn Term
DESCRIPTION:School reopens after Summer Holidays
URL:https://www.twyfordschool.org.uk/event/school-reopens-2/
LOCATION:Twyford C of E School\, Church Street\, Twyford\, Buckinghamshire\, MK18 4EU\, United Kingdom
END:VEVENT
BEGIN:VEVENT
DTSTART;VALUE=DATE:20230904
DTEND;VALUE=DATE:20230905
DTSTAMP:20260421T054718
CREATED:20230316T112514Z
LAST-MODIFIED:20240105T110539Z
UID:7548-1693785600-1693871999@www.twyfordschool.org.uk
SUMMARY:Inset Day
DESCRIPTION:School closed to pupils
URL:https://www.twyfordschool.org.uk/event/inset-day-2/
END:VEVENT
BEGIN:VEVENT
DTSTART;VALUE=DATE:20230901
DTEND;VALUE=DATE:20230902
DTSTAMP:20260421T054718
CREATED:20230316T112452Z
LAST-MODIFIED:20230316T112452Z
UID:7546-1693526400-1693612799@www.twyfordschool.org.uk
SUMMARY:Inset Day
DESCRIPTION:
URL:https://www.twyfordschool.org.uk/event/inset-day/
END:VEVENT
BEGIN:VEVENT
DTSTART;TZID=Europe/London:20230720T151500
DTEND;TZID=Europe/London:20230720T151500
DTSTAMP:20260421T054718
CREATED:20230316T103257Z
LAST-MODIFIED:20230316T125942Z
UID:7524-1689866100-1689866100@www.twyfordschool.org.uk
SUMMARY:End of Summer Term
DESCRIPTION:School breaks up for Summer Holiday
URL:https://www.twyfordschool.org.uk/event/school-breaks-up-for-summer-holiday/
LOCATION:Twyford C of E School\, Church Street\, Twyford\, Buckinghamshire\, MK18 4EU\, United Kingdom
END:VEVENT
BEGIN:VEVENT
DTSTART;TZID=Europe/London:20230714T094500
DTEND;TZID=Europe/London:20230714T110000
DTSTAMP:20260421T054718
CREATED:20230316T103206Z
LAST-MODIFIED:20230316T112235Z
UID:7522-1689327900-1689332400@www.twyfordschool.org.uk
SUMMARY:Toddler Group
DESCRIPTION:
URL:https://www.twyfordschool.org.uk/event/toddler-group-15/
END:VEVENT
BEGIN:VEVENT
DTSTART;TZID=Europe/London:20230713T133000
DTEND;TZID=Europe/London:20230713T133000
DTSTAMP:20260421T054718
CREATED:20230629T122229Z
LAST-MODIFIED:20230629T122229Z
UID:7829-1689255000-1689255000@www.twyfordschool.org.uk
SUMMARY:Reception End of Year Picnic
DESCRIPTION:
URL:https://www.twyfordschool.org.uk/event/reception-end-of-year-picnic/
END:VEVENT
BEGIN:VEVENT
DTSTART;TZID=Europe/London:20230712T133000
DTEND;TZID=Europe/London:20230712T133000
DTSTAMP:20260421T054718
CREATED:20230629T122006Z
LAST-MODIFIED:20230629T122118Z
UID:7827-1689168600-1689168600@www.twyfordschool.org.uk
SUMMARY:Nursery End of Year Picnic
DESCRIPTION:
URL:https://www.twyfordschool.org.uk/event/nursery-end-of-year-picnic/
END:VEVENT
BEGIN:VEVENT
DTSTART;VALUE=DATE:20230712
DTEND;VALUE=DATE:20230713
DTSTAMP:20260421T054718
CREATED:20230316T103119Z
LAST-MODIFIED:20230316T103119Z
UID:7520-1689120000-1689206399@www.twyfordschool.org.uk
SUMMARY:KS2 Performance
DESCRIPTION:
URL:https://www.twyfordschool.org.uk/event/ks2-performance-2/
END:VEVENT
BEGIN:VEVENT
DTSTART;VALUE=DATE:20230711
DTEND;VALUE=DATE:20230712
DTSTAMP:20260421T054718
CREATED:20230316T102908Z
LAST-MODIFIED:20230316T102908Z
UID:7518-1689033600-1689119999@www.twyfordschool.org.uk
SUMMARY:KS2 Performance
DESCRIPTION:
URL:https://www.twyfordschool.org.uk/event/ks2-performance/
END:VEVENT
BEGIN:VEVENT
DTSTART;TZID=Europe/London:20230707T094500
DTEND;TZID=Europe/London:20230707T110000
DTSTAMP:20260421T054718
CREATED:20230316T102827Z
LAST-MODIFIED:20230316T112306Z
UID:7516-1688723100-1688727600@www.twyfordschool.org.uk
SUMMARY:Toddler Group
DESCRIPTION:
URL:https://www.twyfordschool.org.uk/event/toddler-group-14/
END:VEVENT
BEGIN:VEVENT
DTSTART;VALUE=DATE:20230706
DTEND;VALUE=DATE:20230707
DTSTAMP:20260421T054718
CREATED:20230316T102752Z
LAST-MODIFIED:20230316T102752Z
UID:7514-1688601600-1688687999@www.twyfordschool.org.uk
SUMMARY:Sports Day
DESCRIPTION:
URL:https://www.twyfordschool.org.uk/event/sports-day/
END:VEVENT
BEGIN:VEVENT
DTSTART;VALUE=DATE:20230704
DTEND;VALUE=DATE:20230705
DTSTAMP:20260421T054718
CREATED:20230316T102727Z
LAST-MODIFIED:20230316T112032Z
UID:7512-1688428800-1688515199@www.twyfordschool.org.uk
SUMMARY:Transition Day
DESCRIPTION:All children  spending time in their new classes
URL:https://www.twyfordschool.org.uk/event/transition-day-children-spending-time-in-their-new-classes/
END:VEVENT
BEGIN:VEVENT
DTSTART;TZID=Europe/London:20230630T094500
DTEND;TZID=Europe/London:20230630T110000
DTSTAMP:20260421T054718
CREATED:20230316T102559Z
LAST-MODIFIED:20230316T102559Z
UID:7510-1688118300-1688122800@www.twyfordschool.org.uk
SUMMARY:Toddler Group
DESCRIPTION:
URL:https://www.twyfordschool.org.uk/event/toddler-group-13/
END:VEVENT
BEGIN:VEVENT
DTSTART;VALUE=DATE:20230629
DTEND;VALUE=DATE:20230630
DTSTAMP:20260421T054718
CREATED:20230316T105104Z
LAST-MODIFIED:20230316T105235Z
UID:7534-1687996800-1688083199@www.twyfordschool.org.uk
SUMMARY:Year 5 Bikeability Training
DESCRIPTION:Bikeability Cycle Training
URL:https://www.twyfordschool.org.uk/event/year-5-bikeability-training-3/
END:VEVENT
BEGIN:VEVENT
DTSTART;VALUE=DATE:20230628
DTEND;VALUE=DATE:20230629
DTSTAMP:20260421T054718
CREATED:20230316T105048Z
LAST-MODIFIED:20230316T105218Z
UID:7532-1687910400-1687996799@www.twyfordschool.org.uk
SUMMARY:Year 5 Bikeability Training
DESCRIPTION:Bikeability Cycle Training
URL:https://www.twyfordschool.org.uk/event/year-5-bikeability-training-2/
END:VEVENT
BEGIN:VEVENT
DTSTART;VALUE=DATE:20230628
DTEND;VALUE=DATE:20230629
DTSTAMP:20260421T054718
CREATED:20230316T102528Z
LAST-MODIFIED:20230316T102528Z
UID:7508-1687910400-1687996799@www.twyfordschool.org.uk
SUMMARY:Year 3/4 Swimming
DESCRIPTION:
URL:https://www.twyfordschool.org.uk/event/year-3-4-swimming-8/
END:VEVENT
END:VCALENDAR