BEGIN:VCALENDAR
VERSION:2.0
PRODID:-//Twyford Church of England School - ECPv6.15.20//NONSGML v1.0//EN
CALSCALE:GREGORIAN
METHOD:PUBLISH
X-WR-CALNAME:Twyford Church of England School
X-ORIGINAL-URL:https://www.twyfordschool.org.uk
X-WR-CALDESC:Events for Twyford Church of England School
REFRESH-INTERVAL;VALUE=DURATION:PT1H
X-Robots-Tag:noindex
X-PUBLISHED-TTL:PT1H
BEGIN:VTIMEZONE
TZID:Europe/London
BEGIN:DAYLIGHT
TZOFFSETFROM:+0000
TZOFFSETTO:+0100
TZNAME:BST
DTSTART:20230326T010000
END:DAYLIGHT
BEGIN:STANDARD
TZOFFSETFROM:+0100
TZOFFSETTO:+0000
TZNAME:GMT
DTSTART:20231029T010000
END:STANDARD
BEGIN:DAYLIGHT
TZOFFSETFROM:+0000
TZOFFSETTO:+0100
TZNAME:BST
DTSTART:20240331T010000
END:DAYLIGHT
BEGIN:STANDARD
TZOFFSETFROM:+0100
TZOFFSETTO:+0000
TZNAME:GMT
DTSTART:20241027T010000
END:STANDARD
BEGIN:DAYLIGHT
TZOFFSETFROM:+0000
TZOFFSETTO:+0100
TZNAME:BST
DTSTART:20250330T010000
END:DAYLIGHT
BEGIN:STANDARD
TZOFFSETFROM:+0100
TZOFFSETTO:+0000
TZNAME:GMT
DTSTART:20251026T010000
END:STANDARD
END:VTIMEZONE
BEGIN:VEVENT
DTSTART;VALUE=DATE:20240607
DTEND;VALUE=DATE:20240608
DTSTAMP:20260420T181026
CREATED:20240419T132728Z
LAST-MODIFIED:20240517T130337Z
UID:8455-1717718400-1717804799@www.twyfordschool.org.uk
SUMMARY:Churchill House Fundraiser
DESCRIPTION:
URL:https://www.twyfordschool.org.uk/event/churchill-house-fundraiser/
END:VEVENT
BEGIN:VEVENT
DTSTART;VALUE=DATE:20240607
DTEND;VALUE=DATE:20240608
DTSTAMP:20260420T181026
CREATED:20240517T130529Z
LAST-MODIFIED:20240517T130837Z
UID:8518-1717718400-1717804799@www.twyfordschool.org.uk
SUMMARY:FOTS Meeting
DESCRIPTION:Summer Sizzler planning. Meeting at Twyford Village Stores
URL:https://www.twyfordschool.org.uk/event/fots-meeting/
END:VEVENT
BEGIN:VEVENT
DTSTART;VALUE=DATE:20240605
DTEND;VALUE=DATE:20240606
DTSTAMP:20260420T181026
CREATED:20231012T101613Z
LAST-MODIFIED:20231012T101613Z
UID:8012-1717545600-1717631999@www.twyfordschool.org.uk
SUMMARY:LKS2 Swimming
DESCRIPTION:
URL:https://www.twyfordschool.org.uk/event/lks2-swimming-7/
END:VEVENT
BEGIN:VEVENT
DTSTART;VALUE=DATE:20240604
DTEND;VALUE=DATE:20240605
DTSTAMP:20260420T181026
CREATED:20230316T122224Z
LAST-MODIFIED:20230316T122224Z
UID:7628-1717459200-1717545599@www.twyfordschool.org.uk
SUMMARY:School Reopens
DESCRIPTION:School reopens after Half Term
URL:https://www.twyfordschool.org.uk/event/school-reopens-6/
END:VEVENT
BEGIN:VEVENT
DTSTART;VALUE=DATE:20240603
DTEND;VALUE=DATE:20240604
DTSTAMP:20260420T181026
CREATED:20230316T114235Z
LAST-MODIFIED:20240105T110514Z
UID:7592-1717372800-1717459199@www.twyfordschool.org.uk
SUMMARY:Inset Day
DESCRIPTION:School closed to pupils
URL:https://www.twyfordschool.org.uk/event/inset-day-4/
END:VEVENT
BEGIN:VEVENT
DTSTART;TZID=Europe/London:20240524T094500
DTEND;TZID=Europe/London:20240524T110000
DTSTAMP:20260420T181026
CREATED:20240104T125556Z
LAST-MODIFIED:20240315T143725Z
UID:8156-1716543900-1716548400@www.twyfordschool.org.uk
SUMMARY:Baby and Toddler Group
DESCRIPTION:
URL:https://www.twyfordschool.org.uk/event/toddler-group-44/
END:VEVENT
BEGIN:VEVENT
DTSTART;TZID=Europe/London:20240524T031500
DTEND;TZID=Europe/London:20240524T031500
DTSTAMP:20260420T181026
CREATED:20230316T122138Z
LAST-MODIFIED:20230316T124916Z
UID:7626-1716520500-1716520500@www.twyfordschool.org.uk
SUMMARY:School breaks for Half Term
DESCRIPTION:
URL:https://www.twyfordschool.org.uk/event/half-term/
LOCATION:Twyford C of E School\, Church Street\, Twyford\, Buckinghamshire\, MK18 4EU\, United Kingdom
END:VEVENT
BEGIN:VEVENT
DTSTART;VALUE=DATE:20240524
DTEND;VALUE=DATE:20240525
DTSTAMP:20260420T181026
CREATED:20240419T132855Z
LAST-MODIFIED:20240419T132855Z
UID:8457-1716508800-1716595199@www.twyfordschool.org.uk
SUMMARY:Y5 Science Festival
DESCRIPTION:
URL:https://www.twyfordschool.org.uk/event/y5-science-festival/
END:VEVENT
BEGIN:VEVENT
DTSTART;VALUE=DATE:20240523
DTEND;VALUE=DATE:20240524
DTSTAMP:20260420T181026
CREATED:20240315T141253Z
LAST-MODIFIED:20240510T144312Z
UID:8395-1716422400-1716508799@www.twyfordschool.org.uk
SUMMARY:Break The Rules
DESCRIPTION:FOT fundraiser
URL:https://www.twyfordschool.org.uk/event/fots-fundraiser/
END:VEVENT
BEGIN:VEVENT
DTSTART;VALUE=DATE:20240522
DTEND;VALUE=DATE:20240523
DTSTAMP:20260420T181026
CREATED:20231012T101547Z
LAST-MODIFIED:20231012T101547Z
UID:8010-1716336000-1716422399@www.twyfordschool.org.uk
SUMMARY:LKS2 Swimming
DESCRIPTION:
URL:https://www.twyfordschool.org.uk/event/lks2-swimming-6/
END:VEVENT
BEGIN:VEVENT
DTSTART;TZID=Europe/London:20240517T094500
DTEND;TZID=Europe/London:20240517T110000
DTSTAMP:20260420T181026
CREATED:20240104T125520Z
LAST-MODIFIED:20240315T143750Z
UID:8154-1715939100-1715943600@www.twyfordschool.org.uk
SUMMARY:Baby and Toddler Group
DESCRIPTION:
URL:https://www.twyfordschool.org.uk/event/toddler-group-43/
END:VEVENT
BEGIN:VEVENT
DTSTART;TZID=Europe/London:20240516T120000
DTEND;TZID=Europe/London:20240516T130000
DTSTAMP:20260420T181026
CREATED:20240321T102124Z
LAST-MODIFIED:20240419T132615Z
UID:8433-1715860800-1715864400@www.twyfordschool.org.uk
SUMMARY:Spring Picnic Theme Day Lunch
DESCRIPTION:
URL:https://www.twyfordschool.org.uk/event/theme-day-lunch/
END:VEVENT
BEGIN:VEVENT
DTSTART;VALUE=DATE:20240515
DTEND;VALUE=DATE:20240516
DTSTAMP:20260420T181026
CREATED:20231012T101520Z
LAST-MODIFIED:20231012T101520Z
UID:8008-1715731200-1715817599@www.twyfordschool.org.uk
SUMMARY:LKS2 Swimming
DESCRIPTION:
URL:https://www.twyfordschool.org.uk/event/lks2-swimming-5/
END:VEVENT
BEGIN:VEVENT
DTSTART;VALUE=DATE:20240513
DTEND;VALUE=DATE:20240518
DTSTAMP:20260420T181026
CREATED:20240419T133035Z
LAST-MODIFIED:20240419T133035Z
UID:8459-1715558400-1715990399@www.twyfordschool.org.uk
SUMMARY:Key Stage 2 SATS
DESCRIPTION:
URL:https://www.twyfordschool.org.uk/event/key-stage-2-sats/
END:VEVENT
BEGIN:VEVENT
DTSTART;TZID=Europe/London:20240510T094500
DTEND;TZID=Europe/London:20240510T110000
DTSTAMP:20260420T181026
CREATED:20240104T125223Z
LAST-MODIFIED:20240315T143810Z
UID:8152-1715334300-1715338800@www.twyfordschool.org.uk
SUMMARY:Baby and Toddler Group
DESCRIPTION:
URL:https://www.twyfordschool.org.uk/event/toddler-group-42/
END:VEVENT
BEGIN:VEVENT
DTSTART;VALUE=DATE:20240508
DTEND;VALUE=DATE:20240509
DTSTAMP:20260420T181026
CREATED:20231012T101443Z
LAST-MODIFIED:20231012T101443Z
UID:8006-1715126400-1715212799@www.twyfordschool.org.uk
SUMMARY:LKS2 Swimming
DESCRIPTION:
URL:https://www.twyfordschool.org.uk/event/lks2-swimming-4/
END:VEVENT
BEGIN:VEVENT
DTSTART;VALUE=DATE:20240506
DTEND;VALUE=DATE:20240507
DTSTAMP:20260420T181026
CREATED:20240315T141218Z
LAST-MODIFIED:20240315T141218Z
UID:8393-1714953600-1715039999@www.twyfordschool.org.uk
SUMMARY:Bank Holiday - School Closed
DESCRIPTION:School Closed
URL:https://www.twyfordschool.org.uk/event/bank-holiday-school-closed-2/
END:VEVENT
BEGIN:VEVENT
DTSTART;TZID=Europe/London:20240503T094500
DTEND;TZID=Europe/London:20240503T110000
DTSTAMP:20260420T181026
CREATED:20240104T125156Z
LAST-MODIFIED:20240315T143834Z
UID:8150-1714729500-1714734000@www.twyfordschool.org.uk
SUMMARY:Baby and Toddler Group
DESCRIPTION:
URL:https://www.twyfordschool.org.uk/event/toddler-group-41/
END:VEVENT
BEGIN:VEVENT
DTSTART;VALUE=DATE:20240501
DTEND;VALUE=DATE:20240502
DTSTAMP:20260420T181026
CREATED:20231012T101409Z
LAST-MODIFIED:20231012T104305Z
UID:8004-1714521600-1714607999@www.twyfordschool.org.uk
SUMMARY:LKS2 Swimming
DESCRIPTION:
URL:https://www.twyfordschool.org.uk/event/lks2-swimming-3/
END:VEVENT
BEGIN:VEVENT
DTSTART;VALUE=DATE:20240430
DTEND;VALUE=DATE:20240501
DTSTAMP:20260420T181026
CREATED:20231102T124333Z
LAST-MODIFIED:20231102T124333Z
UID:8052-1714435200-1714521599@www.twyfordschool.org.uk
SUMMARY:Class Photographs
DESCRIPTION:
URL:https://www.twyfordschool.org.uk/event/class-photographs/
END:VEVENT
BEGIN:VEVENT
DTSTART;TZID=Europe/London:20240426T094500
DTEND;TZID=Europe/London:20240426T110000
DTSTAMP:20260420T181026
CREATED:20240104T124822Z
LAST-MODIFIED:20240315T143937Z
UID:8145-1714124700-1714129200@www.twyfordschool.org.uk
SUMMARY:Baby and Toddler Group
DESCRIPTION:
URL:https://www.twyfordschool.org.uk/event/toddler-group-39/
END:VEVENT
BEGIN:VEVENT
DTSTART;VALUE=DATE:20240424
DTEND;VALUE=DATE:20240425
DTSTAMP:20260420T181026
CREATED:20231012T101343Z
LAST-MODIFIED:20231012T104214Z
UID:8002-1713916800-1714003199@www.twyfordschool.org.uk
SUMMARY:LKS2 Swimming
DESCRIPTION:
URL:https://www.twyfordschool.org.uk/event/lks2-swimming-2/
END:VEVENT
BEGIN:VEVENT
DTSTART;TZID=Europe/London:20240419T094500
DTEND;TZID=Europe/London:20240419T110000
DTSTAMP:20260420T181026
CREATED:20240104T124746Z
LAST-MODIFIED:20240315T144010Z
UID:8143-1713519900-1713524400@www.twyfordschool.org.uk
SUMMARY:Baby and Toddler Group
DESCRIPTION:
URL:https://www.twyfordschool.org.uk/event/toddler-group-38/
END:VEVENT
BEGIN:VEVENT
DTSTART;VALUE=DATE:20240418
DTEND;VALUE=DATE:20240419
DTSTAMP:20260420T181026
CREATED:20240315T141129Z
LAST-MODIFIED:20240315T141129Z
UID:8391-1713398400-1713484799@www.twyfordschool.org.uk
SUMMARY:Oxford Castle Trip - Year 1 & 2
DESCRIPTION:Year 1&2
URL:https://www.twyfordschool.org.uk/event/oxford-castle-trip-year-1-2/
END:VEVENT
BEGIN:VEVENT
DTSTART;VALUE=DATE:20240417
DTEND;VALUE=DATE:20240418
DTSTAMP:20260420T181026
CREATED:20231012T101316Z
LAST-MODIFIED:20231012T103331Z
UID:8000-1713312000-1713398399@www.twyfordschool.org.uk
SUMMARY:LKS2 Swimming
DESCRIPTION:
URL:https://www.twyfordschool.org.uk/event/lks2-swimming/
END:VEVENT
BEGIN:VEVENT
DTSTART;VALUE=DATE:20240416
DTEND;VALUE=DATE:20240417
DTSTAMP:20260420T181026
CREATED:20231006T100351Z
LAST-MODIFIED:20240105T112323Z
UID:7931-1713225600-1713311999@www.twyfordschool.org.uk
SUMMARY:Primary School Place Offer Day
DESCRIPTION:School offer day for Reception September 2024 places
URL:https://www.twyfordschool.org.uk/event/primary-place-offer-day/
END:VEVENT
BEGIN:VEVENT
DTSTART;VALUE=DATE:20240415
DTEND;VALUE=DATE:20240416
DTSTAMP:20260420T181026
CREATED:20230316T122112Z
LAST-MODIFIED:20230316T132057Z
UID:7624-1713139200-1713225599@www.twyfordschool.org.uk
SUMMARY:Start of Summer Term
DESCRIPTION:School reopens after Easter Holidays
URL:https://www.twyfordschool.org.uk/event/start-of-summer-term/
LOCATION:Twyford C of E School\, Church Street\, Twyford\, Buckinghamshire\, MK18 4EU\, United Kingdom
END:VEVENT
BEGIN:VEVENT
DTSTART;TZID=Europe/London:20240328T151500
DTEND;TZID=Europe/London:20240328T151500
DTSTAMP:20260420T181026
CREATED:20230316T122042Z
LAST-MODIFIED:20230316T130321Z
UID:7622-1711638900-1711638900@www.twyfordschool.org.uk
SUMMARY:End of Spring Term
DESCRIPTION:School breaks for Easter Holidays
URL:https://www.twyfordschool.org.uk/event/end-of-spring-term-2/
END:VEVENT
BEGIN:VEVENT
DTSTART;VALUE=DATE:20240328
DTEND;VALUE=DATE:20240329
DTSTAMP:20260420T181026
CREATED:20240315T141014Z
LAST-MODIFIED:20240315T141014Z
UID:8389-1711584000-1711670399@www.twyfordschool.org.uk
SUMMARY:Nightingale House Fundraiser Day
DESCRIPTION:
URL:https://www.twyfordschool.org.uk/event/nightingale-house-fundraiser-day/
END:VEVENT
BEGIN:VEVENT
DTSTART;TZID=Europe/London:20240327T091500
DTEND;TZID=Europe/London:20240327T091500
DTSTAMP:20260420T181026
CREATED:20240315T140850Z
LAST-MODIFIED:20240315T140850Z
UID:8387-1711530900-1711530900@www.twyfordschool.org.uk
SUMMARY:Easter Service - St Mary's Church
DESCRIPTION:All parents are welcome to join us there.
URL:https://www.twyfordschool.org.uk/event/easter-service-st-marys-church/
END:VEVENT
END:VCALENDAR