BEGIN:VCALENDAR
VERSION:2.0
PRODID:-//Twyford Church of England School - ECPv6.15.20//NONSGML v1.0//EN
CALSCALE:GREGORIAN
METHOD:PUBLISH
X-WR-CALNAME:Twyford Church of England School
X-ORIGINAL-URL:https://www.twyfordschool.org.uk
X-WR-CALDESC:Events for Twyford Church of England School
REFRESH-INTERVAL;VALUE=DURATION:PT1H
X-Robots-Tag:noindex
X-PUBLISHED-TTL:PT1H
BEGIN:VTIMEZONE
TZID:UTC
BEGIN:STANDARD
TZOFFSETFROM:+0000
TZOFFSETTO:+0000
TZNAME:UTC
DTSTART:20210101T000000
END:STANDARD
END:VTIMEZONE
BEGIN:VEVENT
DTSTART;TZID=UTC:20220629T100000
DTEND;TZID=UTC:20220629T110000
DTSTAMP:20260421T225949
CREATED:20211110T154735Z
LAST-MODIFIED:20211110T154735Z
UID:6709-1656496800-1656500400@www.twyfordschool.org.uk
SUMMARY:KS2 Swimming - Last Session
DESCRIPTION:
URL:https://www.twyfordschool.org.uk/event/ks2-swimming-last-session/
END:VEVENT
BEGIN:VEVENT
DTSTART;VALUE=DATE:20220624
DTEND;VALUE=DATE:20220625
DTSTAMP:20260421T225949
CREATED:20211013T092834Z
LAST-MODIFIED:20230324T111420Z
UID:6602-1656028800-1656115199@www.twyfordschool.org.uk
SUMMARY:Year 5/6 Residential to Fairthorne Manor
DESCRIPTION:
URL:https://www.twyfordschool.org.uk/event/year-5-and-6-residential-to-fairthorne-manor-5/
END:VEVENT
BEGIN:VEVENT
DTSTART;VALUE=DATE:20220623
DTEND;VALUE=DATE:20220624
DTSTAMP:20260421T225949
CREATED:20211013T092818Z
LAST-MODIFIED:20230324T111516Z
UID:6600-1655942400-1656028799@www.twyfordschool.org.uk
SUMMARY:Year 5/Residential to Fairthorne Manor
DESCRIPTION:
URL:https://www.twyfordschool.org.uk/event/year-5-and-6-residential-to-fairthorne-manor-4/
END:VEVENT
BEGIN:VEVENT
DTSTART;TZID=UTC:20220622T100000
DTEND;TZID=UTC:20220622T110000
DTSTAMP:20260421T225949
CREATED:20211110T154707Z
LAST-MODIFIED:20211110T154707Z
UID:6707-1655892000-1655895600@www.twyfordschool.org.uk
SUMMARY:KS2 Swimming
DESCRIPTION:
URL:https://www.twyfordschool.org.uk/event/ks2-swimming-7/
END:VEVENT
BEGIN:VEVENT
DTSTART;VALUE=DATE:20220622
DTEND;VALUE=DATE:20220623
DTSTAMP:20260421T225949
CREATED:20211013T092801Z
LAST-MODIFIED:20230324T111242Z
UID:6598-1655856000-1655942399@www.twyfordschool.org.uk
SUMMARY:Year 5/6 Residential to Fairthorne Manor
DESCRIPTION:
URL:https://www.twyfordschool.org.uk/event/year-5-and-6-residential-to-fairthorne-manor-3/
END:VEVENT
BEGIN:VEVENT
DTSTART;VALUE=DATE:20220621
DTEND;VALUE=DATE:20220622
DTSTAMP:20260421T225949
CREATED:20211013T092746Z
LAST-MODIFIED:20230324T111529Z
UID:6596-1655769600-1655855999@www.twyfordschool.org.uk
SUMMARY:Year 5/6 Residential to Fairthorne Manor
DESCRIPTION:
URL:https://www.twyfordschool.org.uk/event/year-5-and-6-residential-to-fairthorne-manor-2/
END:VEVENT
BEGIN:VEVENT
DTSTART;VALUE=DATE:20220620
DTEND;VALUE=DATE:20220621
DTSTAMP:20260421T225949
CREATED:20211013T092730Z
LAST-MODIFIED:20211013T092730Z
UID:6594-1655683200-1655769599@www.twyfordschool.org.uk
SUMMARY:Year 5 and 6 Residential to Fairthorne Manor
DESCRIPTION:
URL:https://www.twyfordschool.org.uk/event/year-5-and-6-residential-to-fairthorne-manor/
END:VEVENT
BEGIN:VEVENT
DTSTART;TZID=UTC:20220615T100000
DTEND;TZID=UTC:20220615T110000
DTSTAMP:20260421T225949
CREATED:20211110T154642Z
LAST-MODIFIED:20211110T154642Z
UID:6705-1655287200-1655290800@www.twyfordschool.org.uk
SUMMARY:KS2 Swimming
DESCRIPTION:
URL:https://www.twyfordschool.org.uk/event/ks2-swimming-6/
END:VEVENT
BEGIN:VEVENT
DTSTART;TZID=UTC:20220608T100000
DTEND;TZID=UTC:20220608T110000
DTSTAMP:20260421T225949
CREATED:20211110T154613Z
LAST-MODIFIED:20211110T154613Z
UID:6703-1654682400-1654686000@www.twyfordschool.org.uk
SUMMARY:KS2 Swimming
DESCRIPTION:
URL:https://www.twyfordschool.org.uk/event/ks2-swimming-5/
END:VEVENT
BEGIN:VEVENT
DTSTART;VALUE=DATE:20220606
DTEND;VALUE=DATE:20220607
DTSTAMP:20260421T225949
CREATED:20210524T135702Z
LAST-MODIFIED:20210524T135702Z
UID:6357-1654473600-1654559999@www.twyfordschool.org.uk
SUMMARY:School re-opens after half term
DESCRIPTION:
URL:https://www.twyfordschool.org.uk/event/school-re-opens-after-half-term-17/
END:VEVENT
BEGIN:VEVENT
DTSTART;VALUE=DATE:20220603
DTEND;VALUE=DATE:20220604
DTSTAMP:20260421T225949
CREATED:20211013T095546Z
LAST-MODIFIED:20211013T095546Z
UID:6669-1654214400-1654300799@www.twyfordschool.org.uk
SUMMARY:Half Term
DESCRIPTION:
URL:https://www.twyfordschool.org.uk/event/half-term-15/
END:VEVENT
BEGIN:VEVENT
DTSTART;VALUE=DATE:20220602
DTEND;VALUE=DATE:20220603
DTSTAMP:20260421T225949
CREATED:20211013T095534Z
LAST-MODIFIED:20211013T095534Z
UID:6667-1654128000-1654214399@www.twyfordschool.org.uk
SUMMARY:Half Term
DESCRIPTION:
URL:https://www.twyfordschool.org.uk/event/half-term-14/
END:VEVENT
BEGIN:VEVENT
DTSTART;VALUE=DATE:20220601
DTEND;VALUE=DATE:20220602
DTSTAMP:20260421T225949
CREATED:20211013T095519Z
LAST-MODIFIED:20211013T095519Z
UID:6665-1654041600-1654127999@www.twyfordschool.org.uk
SUMMARY:Half Term
DESCRIPTION:
URL:https://www.twyfordschool.org.uk/event/half-term-13/
END:VEVENT
BEGIN:VEVENT
DTSTART;VALUE=DATE:20220531
DTEND;VALUE=DATE:20220601
DTSTAMP:20260421T225949
CREATED:20211013T095502Z
LAST-MODIFIED:20211013T095502Z
UID:6663-1653955200-1654041599@www.twyfordschool.org.uk
SUMMARY:Half Term
DESCRIPTION:
URL:https://www.twyfordschool.org.uk/event/half-term-12/
END:VEVENT
BEGIN:VEVENT
DTSTART;VALUE=DATE:20220530
DTEND;VALUE=DATE:20220531
DTSTAMP:20260421T225949
CREATED:20211013T095447Z
LAST-MODIFIED:20211013T095447Z
UID:6661-1653868800-1653955199@www.twyfordschool.org.uk
SUMMARY:Half Term
DESCRIPTION:
URL:https://www.twyfordschool.org.uk/event/half-term-11/
END:VEVENT
BEGIN:VEVENT
DTSTART;VALUE=DATE:20220527
DTEND;VALUE=DATE:20220528
DTSTAMP:20260421T225949
CREATED:20210524T135644Z
LAST-MODIFIED:20210524T135644Z
UID:6355-1653609600-1653695999@www.twyfordschool.org.uk
SUMMARY:School breaks up for half term
DESCRIPTION:
URL:https://www.twyfordschool.org.uk/event/school-breaks-up-for-half-term-17/
END:VEVENT
BEGIN:VEVENT
DTSTART;TZID=UTC:20220525T100000
DTEND;TZID=UTC:20220525T110000
DTSTAMP:20260421T225949
CREATED:20211110T154510Z
LAST-MODIFIED:20211110T154510Z
UID:6701-1653472800-1653476400@www.twyfordschool.org.uk
SUMMARY:KS2 Swimming
DESCRIPTION:
URL:https://www.twyfordschool.org.uk/event/ks2-swimming-4/
END:VEVENT
BEGIN:VEVENT
DTSTART;TZID=UTC:20220518T100000
DTEND;TZID=UTC:20220518T110000
DTSTAMP:20260421T225949
CREATED:20211110T154422Z
LAST-MODIFIED:20211110T154422Z
UID:6699-1652868000-1652871600@www.twyfordschool.org.uk
SUMMARY:KS2 Swimming
DESCRIPTION:
URL:https://www.twyfordschool.org.uk/event/ks2-swimming-3/
END:VEVENT
BEGIN:VEVENT
DTSTART;VALUE=DATE:20220513
DTEND;VALUE=DATE:20220514
DTSTAMP:20260421T225949
CREATED:20211013T092426Z
LAST-MODIFIED:20211013T092426Z
UID:6590-1652400000-1652486399@www.twyfordschool.org.uk
SUMMARY:KS2 SATS (Year 6)
DESCRIPTION:
URL:https://www.twyfordschool.org.uk/event/ks2-sats-year-6-5/
END:VEVENT
BEGIN:VEVENT
DTSTART;VALUE=DATE:20220512
DTEND;VALUE=DATE:20220513
DTSTAMP:20260421T225949
CREATED:20211013T092410Z
LAST-MODIFIED:20211013T092410Z
UID:6588-1652313600-1652399999@www.twyfordschool.org.uk
SUMMARY:KS2 SATS (Year 6)
DESCRIPTION:
URL:https://www.twyfordschool.org.uk/event/ks2-sats-year-6-4/
END:VEVENT
BEGIN:VEVENT
DTSTART;VALUE=DATE:20220511
DTEND;VALUE=DATE:20220512
DTSTAMP:20260421T225949
CREATED:20211013T092353Z
LAST-MODIFIED:20211013T092522Z
UID:6586-1652227200-1652313599@www.twyfordschool.org.uk
SUMMARY:KS2 SATS (Year 6)
DESCRIPTION:
URL:https://www.twyfordschool.org.uk/event/ks2-sats-year-6-3/
END:VEVENT
BEGIN:VEVENT
DTSTART;VALUE=DATE:20220510
DTEND;VALUE=DATE:20220511
DTSTAMP:20260421T225949
CREATED:20211013T092338Z
LAST-MODIFIED:20211013T092338Z
UID:6584-1652140800-1652227199@www.twyfordschool.org.uk
SUMMARY:KS2 SATS (Year 6)
DESCRIPTION:
URL:https://www.twyfordschool.org.uk/event/ks2-sats-year-6-2/
END:VEVENT
BEGIN:VEVENT
DTSTART;VALUE=DATE:20220509
DTEND;VALUE=DATE:20220510
DTSTAMP:20260421T225949
CREATED:20211013T092322Z
LAST-MODIFIED:20211013T092322Z
UID:6582-1652054400-1652140799@www.twyfordschool.org.uk
SUMMARY:KS2 SATS (Year 6)
DESCRIPTION:
URL:https://www.twyfordschool.org.uk/event/ks2-sats-year-6/
END:VEVENT
BEGIN:VEVENT
DTSTART;TZID=UTC:20220504T100000
DTEND;TZID=UTC:20220504T110000
DTSTAMP:20260421T225949
CREATED:20211110T154116Z
LAST-MODIFIED:20211110T154116Z
UID:6697-1651658400-1651662000@www.twyfordschool.org.uk
SUMMARY:KS2 Swimming
DESCRIPTION:
URL:https://www.twyfordschool.org.uk/event/ks2-swimming-2/
END:VEVENT
END:VCALENDAR