BEGIN:VCALENDAR
VERSION:2.0
PRODID:-//Twyford Church of England School - ECPv6.15.20//NONSGML v1.0//EN
CALSCALE:GREGORIAN
METHOD:PUBLISH
X-WR-CALNAME:Twyford Church of England School
X-ORIGINAL-URL:https://www.twyfordschool.org.uk
X-WR-CALDESC:Events for Twyford Church of England School
REFRESH-INTERVAL;VALUE=DURATION:PT1H
X-Robots-Tag:noindex
X-PUBLISHED-TTL:PT1H
BEGIN:VTIMEZONE
TZID:Europe/London
BEGIN:DAYLIGHT
TZOFFSETFROM:+0000
TZOFFSETTO:+0100
TZNAME:BST
DTSTART:20250330T010000
END:DAYLIGHT
BEGIN:STANDARD
TZOFFSETFROM:+0100
TZOFFSETTO:+0000
TZNAME:GMT
DTSTART:20251026T010000
END:STANDARD
BEGIN:DAYLIGHT
TZOFFSETFROM:+0000
TZOFFSETTO:+0100
TZNAME:BST
DTSTART:20260329T010000
END:DAYLIGHT
BEGIN:STANDARD
TZOFFSETFROM:+0100
TZOFFSETTO:+0000
TZNAME:GMT
DTSTART:20261025T010000
END:STANDARD
BEGIN:DAYLIGHT
TZOFFSETFROM:+0000
TZOFFSETTO:+0100
TZNAME:BST
DTSTART:20270328T010000
END:DAYLIGHT
BEGIN:STANDARD
TZOFFSETFROM:+0100
TZOFFSETTO:+0000
TZNAME:GMT
DTSTART:20271031T010000
END:STANDARD
BEGIN:DAYLIGHT
TZOFFSETFROM:+0000
TZOFFSETTO:+0100
TZNAME:BST
DTSTART:20280326T010000
END:DAYLIGHT
BEGIN:STANDARD
TZOFFSETFROM:+0100
TZOFFSETTO:+0000
TZNAME:GMT
DTSTART:20281029T010000
END:STANDARD
END:VTIMEZONE
BEGIN:VEVENT
DTSTART;VALUE=DATE:20260901
DTEND;VALUE=DATE:20260902
DTSTAMP:20260419T184453
CREATED:20251023T131315Z
LAST-MODIFIED:20251128T125003Z
UID:9490-1788220800-1788307199@www.twyfordschool.org.uk
SUMMARY:Inset Day - no children in school
DESCRIPTION:
URL:https://www.twyfordschool.org.uk/event/inset-day-10/
END:VEVENT
BEGIN:VEVENT
DTSTART;VALUE=DATE:20260902
DTEND;VALUE=DATE:20260903
DTSTAMP:20260419T184453
CREATED:20251023T130305Z
LAST-MODIFIED:20251128T124322Z
UID:9466-1788307200-1788393599@www.twyfordschool.org.uk
SUMMARY:Inset Day - no children in school
DESCRIPTION:
URL:https://www.twyfordschool.org.uk/event/term-begins/
END:VEVENT
BEGIN:VEVENT
DTSTART;VALUE=DATE:20260903
DTEND;VALUE=DATE:20260904
DTSTAMP:20260419T184453
CREATED:20251128T125229Z
LAST-MODIFIED:20251128T125229Z
UID:9606-1788393600-1788479999@www.twyfordschool.org.uk
SUMMARY:School Reopens
DESCRIPTION:Autumn term begins
URL:https://www.twyfordschool.org.uk/event/school-reopens-7/
END:VEVENT
BEGIN:VEVENT
DTSTART;VALUE=DATE:20261023
DTEND;VALUE=DATE:20261024
DTSTAMP:20260419T184453
CREATED:20251023T130442Z
LAST-MODIFIED:20251023T133030Z
UID:9468-1792713600-1792799999@www.twyfordschool.org.uk
SUMMARY:Half Term Break
DESCRIPTION:Close at the end of school day
URL:https://www.twyfordschool.org.uk/event/half-term-break-2/
END:VEVENT
BEGIN:VEVENT
DTSTART;VALUE=DATE:20261102
DTEND;VALUE=DATE:20261103
DTSTAMP:20260419T184453
CREATED:20251023T130554Z
LAST-MODIFIED:20251023T130554Z
UID:9470-1793577600-1793663999@www.twyfordschool.org.uk
SUMMARY:School Re-opens
DESCRIPTION:
URL:https://www.twyfordschool.org.uk/event/school-re-opens-6/
END:VEVENT
BEGIN:VEVENT
DTSTART;VALUE=DATE:20261102
DTEND;VALUE=DATE:20261103
DTSTAMP:20260419T184453
CREATED:20251128T131719Z
LAST-MODIFIED:20251128T131719Z
UID:9625-1793577600-1793663999@www.twyfordschool.org.uk
SUMMARY:Inset Day - no children in school
DESCRIPTION:
URL:https://www.twyfordschool.org.uk/event/inset-day-no-children-in-school-2/
END:VEVENT
BEGIN:VEVENT
DTSTART;VALUE=DATE:20261103
DTEND;VALUE=DATE:20261104
DTSTAMP:20260419T184453
CREATED:20251128T131752Z
LAST-MODIFIED:20251128T131752Z
UID:9627-1793664000-1793750399@www.twyfordschool.org.uk
SUMMARY:School re-opens after half term
DESCRIPTION:
URL:https://www.twyfordschool.org.uk/event/school-re-opens-after-half-term-6/
END:VEVENT
BEGIN:VEVENT
DTSTART;VALUE=DATE:20261105
DTEND;VALUE=DATE:20261106
DTSTAMP:20260419T184453
CREATED:20251128T125410Z
LAST-MODIFIED:20251128T125410Z
UID:9609-1793836800-1793923199@www.twyfordschool.org.uk
SUMMARY:Individual School Photographs
DESCRIPTION:
URL:https://www.twyfordschool.org.uk/event/individual-school-photographs/
END:VEVENT
BEGIN:VEVENT
DTSTART;VALUE=DATE:20261218
DTEND;VALUE=DATE:20261219
DTSTAMP:20260419T184453
CREATED:20251023T130700Z
LAST-MODIFIED:20251023T133104Z
UID:9472-1797552000-1797638399@www.twyfordschool.org.uk
SUMMARY:End of Term
DESCRIPTION:School breaks for Christmas holidays at the end of the school day
URL:https://www.twyfordschool.org.uk/event/end-of-term/
END:VEVENT
BEGIN:VEVENT
DTSTART;VALUE=DATE:20270104
DTEND;VALUE=DATE:20270105
DTSTAMP:20260419T184453
CREATED:20251023T130811Z
LAST-MODIFIED:20251128T124800Z
UID:9474-1799020800-1799107199@www.twyfordschool.org.uk
SUMMARY:Inset Day - no children in school
DESCRIPTION:
URL:https://www.twyfordschool.org.uk/event/school-re-opens-7/
END:VEVENT
BEGIN:VEVENT
DTSTART;VALUE=DATE:20270105
DTEND;VALUE=DATE:20270106
DTSTAMP:20260419T184453
CREATED:20251128T125512Z
LAST-MODIFIED:20251128T125512Z
UID:9611-1799107200-1799193599@www.twyfordschool.org.uk
SUMMARY:School re-opens after Christmas Holidays
DESCRIPTION:Spring term begins
URL:https://www.twyfordschool.org.uk/event/school-re-opens-after-christmas-holidays/
END:VEVENT
BEGIN:VEVENT
DTSTART;VALUE=DATE:20270212
DTEND;VALUE=DATE:20270213
DTSTAMP:20260419T184453
CREATED:20251023T130848Z
LAST-MODIFIED:20251023T133130Z
UID:9476-1802390400-1802476799@www.twyfordschool.org.uk
SUMMARY:Half Term Break
DESCRIPTION:School closes at the end of school day
URL:https://www.twyfordschool.org.uk/event/half-term-break-3/
END:VEVENT
BEGIN:VEVENT
DTSTART;VALUE=DATE:20270222
DTEND;VALUE=DATE:20270223
DTSTAMP:20260419T184453
CREATED:20251023T130931Z
LAST-MODIFIED:20251023T130931Z
UID:9478-1803254400-1803340799@www.twyfordschool.org.uk
SUMMARY:School Re-opens
DESCRIPTION:
URL:https://www.twyfordschool.org.uk/event/school-re-opens-8/
END:VEVENT
BEGIN:VEVENT
DTSTART;VALUE=DATE:20270325
DTEND;VALUE=DATE:20270326
DTSTAMP:20260419T184453
CREATED:20251023T131012Z
LAST-MODIFIED:20251023T133150Z
UID:9480-1805932800-1806019199@www.twyfordschool.org.uk
SUMMARY:End of Term
DESCRIPTION:School closes at the end of the school day
URL:https://www.twyfordschool.org.uk/event/end-of-term-2/
END:VEVENT
BEGIN:VEVENT
DTSTART;VALUE=DATE:20270412
DTEND;VALUE=DATE:20270413
DTSTAMP:20260419T184453
CREATED:20251023T131107Z
LAST-MODIFIED:20251023T131107Z
UID:9482-1807488000-1807574399@www.twyfordschool.org.uk
SUMMARY:School Re-opens
DESCRIPTION:Summer Term
URL:https://www.twyfordschool.org.uk/event/school-re-opens-9/
END:VEVENT
BEGIN:VEVENT
DTSTART;VALUE=DATE:20270503
DTEND;VALUE=DATE:20270504
DTSTAMP:20260419T184453
CREATED:20251128T125548Z
LAST-MODIFIED:20251128T125548Z
UID:9613-1809302400-1809388799@www.twyfordschool.org.uk
SUMMARY:Bank Holiday - School Closed
DESCRIPTION:
URL:https://www.twyfordschool.org.uk/event/bank-holiday-school-closed-3/
END:VEVENT
BEGIN:VEVENT
DTSTART;VALUE=DATE:20270528
DTEND;VALUE=DATE:20270529
DTSTAMP:20260419T184453
CREATED:20251023T131143Z
LAST-MODIFIED:20251023T133219Z
UID:9484-1811462400-1811548799@www.twyfordschool.org.uk
SUMMARY:Half Term Break
DESCRIPTION:School closes at the end of the school day
URL:https://www.twyfordschool.org.uk/event/half-term-break-4/
END:VEVENT
BEGIN:VEVENT
DTSTART;VALUE=DATE:20270607
DTEND;VALUE=DATE:20270608
DTSTAMP:20260419T184453
CREATED:20251023T131220Z
LAST-MODIFIED:20251128T124843Z
UID:9486-1812326400-1812412799@www.twyfordschool.org.uk
SUMMARY:Inset Day - no children in school
DESCRIPTION:
URL:https://www.twyfordschool.org.uk/event/school-re-opens-10/
END:VEVENT
BEGIN:VEVENT
DTSTART;VALUE=DATE:20270608
DTEND;VALUE=DATE:20270609
DTSTAMP:20260419T184453
CREATED:20251128T125628Z
LAST-MODIFIED:20251128T125628Z
UID:9615-1812412800-1812499199@www.twyfordschool.org.uk
SUMMARY:School re-opens after half term
DESCRIPTION:
URL:https://www.twyfordschool.org.uk/event/school-re-opens-after-half-term-5/
END:VEVENT
BEGIN:VEVENT
DTSTART;VALUE=DATE:20270706
DTEND;VALUE=DATE:20270707
DTSTAMP:20260419T184453
CREATED:20251128T125657Z
LAST-MODIFIED:20251128T125657Z
UID:9617-1814832000-1814918399@www.twyfordschool.org.uk
SUMMARY:Transition Day
DESCRIPTION:
URL:https://www.twyfordschool.org.uk/event/transition-day/
END:VEVENT
BEGIN:VEVENT
DTSTART;VALUE=DATE:20270721
DTEND;VALUE=DATE:20270722
DTSTAMP:20260419T184453
CREATED:20251023T131246Z
LAST-MODIFIED:20251023T133245Z
UID:9488-1816128000-1816214399@www.twyfordschool.org.uk
SUMMARY:End of Term
DESCRIPTION:School closes at the end of the school day
URL:https://www.twyfordschool.org.uk/event/end-of-term-3/
END:VEVENT
BEGIN:VEVENT
DTSTART;VALUE=DATE:20270721
DTEND;VALUE=DATE:20270722
DTSTAMP:20260419T184453
CREATED:20251128T125806Z
LAST-MODIFIED:20251128T125806Z
UID:9619-1816128000-1816214399@www.twyfordschool.org.uk
SUMMARY:School breaks up for Summer Holidays
DESCRIPTION:
URL:https://www.twyfordschool.org.uk/event/school-breaks-up-for-summer-holidays/
END:VEVENT
END:VCALENDAR