BEGIN:VCALENDAR
VERSION:2.0
PRODID:-//Twyford Church of England School - ECPv6.15.20//NONSGML v1.0//EN
CALSCALE:GREGORIAN
METHOD:PUBLISH
X-WR-CALNAME:Twyford Church of England School
X-ORIGINAL-URL:https://www.twyfordschool.org.uk
X-WR-CALDESC:Events for Twyford Church of England School
REFRESH-INTERVAL;VALUE=DURATION:PT1H
X-Robots-Tag:noindex
X-PUBLISHED-TTL:PT1H
BEGIN:VTIMEZONE
TZID:Europe/London
BEGIN:DAYLIGHT
TZOFFSETFROM:+0000
TZOFFSETTO:+0100
TZNAME:BST
DTSTART:20230326T010000
END:DAYLIGHT
BEGIN:STANDARD
TZOFFSETFROM:+0100
TZOFFSETTO:+0000
TZNAME:GMT
DTSTART:20231029T010000
END:STANDARD
BEGIN:DAYLIGHT
TZOFFSETFROM:+0000
TZOFFSETTO:+0100
TZNAME:BST
DTSTART:20240331T010000
END:DAYLIGHT
BEGIN:STANDARD
TZOFFSETFROM:+0100
TZOFFSETTO:+0000
TZNAME:GMT
DTSTART:20241027T010000
END:STANDARD
BEGIN:DAYLIGHT
TZOFFSETFROM:+0000
TZOFFSETTO:+0100
TZNAME:BST
DTSTART:20250330T010000
END:DAYLIGHT
BEGIN:STANDARD
TZOFFSETFROM:+0100
TZOFFSETTO:+0000
TZNAME:GMT
DTSTART:20251026T010000
END:STANDARD
END:VTIMEZONE
BEGIN:VEVENT
DTSTART;TZID=Europe/London:20240927T094500
DTEND;TZID=Europe/London:20240927T110000
DTSTAMP:20260420T150654
CREATED:20240905T135600Z
LAST-MODIFIED:20240905T135600Z
UID:8628-1727430300-1727434800@www.twyfordschool.org.uk
SUMMARY:Baby and Toddler Group
DESCRIPTION:
URL:https://www.twyfordschool.org.uk/event/baby-and-toddler-group-3/
END:VEVENT
BEGIN:VEVENT
DTSTART;VALUE=DATE:20240924
DTEND;VALUE=DATE:20240925
DTSTAMP:20260420T150654
CREATED:20240919T144137Z
LAST-MODIFIED:20240919T144831Z
UID:8656-1727136000-1727222399@www.twyfordschool.org.uk
SUMMARY:R-Year 6 Flu Immunisations
DESCRIPTION:Reception to Year 6
URL:https://www.twyfordschool.org.uk/event/flu-immunisation-r-y6/
END:VEVENT
BEGIN:VEVENT
DTSTART;TZID=Europe/London:20240920T094500
DTEND;TZID=Europe/London:20240920T110000
DTSTAMP:20260420T150654
CREATED:20240905T135523Z
LAST-MODIFIED:20240905T135523Z
UID:8626-1726825500-1726830000@www.twyfordschool.org.uk
SUMMARY:Baby and Toddler Group
DESCRIPTION:
URL:https://www.twyfordschool.org.uk/event/baby-and-toddler-group-2/
END:VEVENT
BEGIN:VEVENT
DTSTART;TZID=Europe/London:20240913T094500
DTEND;TZID=Europe/London:20240913T110000
DTSTAMP:20260420T150654
CREATED:20240905T135455Z
LAST-MODIFIED:20240905T135455Z
UID:8624-1726220700-1726225200@www.twyfordschool.org.uk
SUMMARY:Baby and Toddler Group
DESCRIPTION:
URL:https://www.twyfordschool.org.uk/event/baby-and-toddler-group/
END:VEVENT
BEGIN:VEVENT
DTSTART;VALUE=DATE:20240912
DTEND;VALUE=DATE:20240913
DTSTAMP:20260420T150654
CREATED:20240905T140952Z
LAST-MODIFIED:20240905T140952Z
UID:8642-1726099200-1726185599@www.twyfordschool.org.uk
SUMMARY:Secondary Transfer Test
DESCRIPTION:
URL:https://www.twyfordschool.org.uk/event/secondary-transfer-test/
END:VEVENT
BEGIN:VEVENT
DTSTART;VALUE=DATE:20240910
DTEND;VALUE=DATE:20240911
DTSTAMP:20260420T150654
CREATED:20240905T135750Z
LAST-MODIFIED:20240905T140813Z
UID:8636-1725926400-1726012799@www.twyfordschool.org.uk
SUMMARY:Practice Secondary Transfer Test
DESCRIPTION:
URL:https://www.twyfordschool.org.uk/event/baby-and-toddler-group-7/
END:VEVENT
BEGIN:VEVENT
DTSTART;VALUE=DATE:20240905
DTEND;VALUE=DATE:20240906
DTSTAMP:20260420T150654
CREATED:20231006T101143Z
LAST-MODIFIED:20231006T101419Z
UID:7936-1725494400-1725580799@www.twyfordschool.org.uk
SUMMARY:Start of Autumn term
DESCRIPTION:School reopens after summer holidays
URL:https://www.twyfordschool.org.uk/event/autumn-term-starts/
END:VEVENT
BEGIN:VEVENT
DTSTART;VALUE=DATE:20240904
DTEND;VALUE=DATE:20240905
DTSTAMP:20260420T150654
CREATED:20240315T142128Z
LAST-MODIFIED:20240315T142128Z
UID:8408-1725408000-1725494399@www.twyfordschool.org.uk
SUMMARY:Inset Day
DESCRIPTION:
URL:https://www.twyfordschool.org.uk/event/inset-day-7/
END:VEVENT
BEGIN:VEVENT
DTSTART;VALUE=DATE:20240723
DTEND;VALUE=DATE:20240724
DTSTAMP:20260420T150654
CREATED:20230316T114309Z
LAST-MODIFIED:20240105T110602Z
UID:7594-1721692800-1721779199@www.twyfordschool.org.uk
SUMMARY:Inset Day
DESCRIPTION:School closed to pupils
URL:https://www.twyfordschool.org.uk/event/inset-day-5/
END:VEVENT
BEGIN:VEVENT
DTSTART;TZID=Europe/London:20240722T151500
DTEND;TZID=Europe/London:20240722T151500
DTSTAMP:20260420T150654
CREATED:20230316T122255Z
LAST-MODIFIED:20231102T125142Z
UID:7630-1721661300-1721661300@www.twyfordschool.org.uk
SUMMARY:End of Summer Term
DESCRIPTION:School breaks for Summer Holidays
URL:https://www.twyfordschool.org.uk/event/end-of-summer-term/
END:VEVENT
BEGIN:VEVENT
DTSTART;TZID=Europe/London:20240722T091500
DTEND;TZID=Europe/London:20240722T091500
DTSTAMP:20260420T150654
CREATED:20240419T134312Z
LAST-MODIFIED:20240419T134339Z
UID:8470-1721639700-1721639700@www.twyfordschool.org.uk
SUMMARY:Celebration and Leavers Service
DESCRIPTION:Leavers service at St.Mary’s Church\, Twyford
URL:https://www.twyfordschool.org.uk/event/celebration-and-leavers-service/
END:VEVENT
BEGIN:VEVENT
DTSTART;TZID=Europe/London:20240718T133000
DTEND;TZID=Europe/London:20240718T150000
DTSTAMP:20260420T150654
CREATED:20240711T130227Z
LAST-MODIFIED:20240711T130909Z
UID:8613-1721309400-1721314800@www.twyfordschool.org.uk
SUMMARY:Reception Class Picnic
DESCRIPTION:Twyford Recreation Ground
URL:https://www.twyfordschool.org.uk/event/reception-class-picnic/
END:VEVENT
BEGIN:VEVENT
DTSTART;TZID=Europe/London:20240717T133000
DTEND;TZID=Europe/London:20240717T150000
DTSTAMP:20260420T150654
CREATED:20240711T130056Z
LAST-MODIFIED:20240711T130056Z
UID:8611-1721223000-1721228400@www.twyfordschool.org.uk
SUMMARY:Pre-school Nursery Picnic
DESCRIPTION:Twyford Recreation Ground
URL:https://www.twyfordschool.org.uk/event/pre-school-nursery-picnic/
END:VEVENT
BEGIN:VEVENT
DTSTART;TZID=Europe/London:20240712T094500
DTEND;TZID=Europe/London:20240712T110000
DTSTAMP:20260420T150654
CREATED:20240104T131323Z
LAST-MODIFIED:20240614T105558Z
UID:8171-1720777500-1720782000@www.twyfordschool.org.uk
SUMMARY:Last Baby and Toddler Group of the school year
DESCRIPTION:Sing and Sign visiting
URL:https://www.twyfordschool.org.uk/event/toddler-group-50/
END:VEVENT
BEGIN:VEVENT
DTSTART;VALUE=DATE:20240712
DTEND;VALUE=DATE:20240713
DTSTAMP:20260420T150654
CREATED:20240704T084905Z
LAST-MODIFIED:20240704T084905Z
UID:8592-1720742400-1720828799@www.twyfordschool.org.uk
SUMMARY:FOTS Summer Sizzler
DESCRIPTION:
URL:https://www.twyfordschool.org.uk/event/fots-summer-sizzler-2/
END:VEVENT
BEGIN:VEVENT
DTSTART;TZID=Europe/London:20240705T094500
DTEND;TZID=Europe/London:20240705T110000
DTSTAMP:20260420T150654
CREATED:20240104T130009Z
LAST-MODIFIED:20240315T143105Z
UID:8166-1720172700-1720177200@www.twyfordschool.org.uk
SUMMARY:Baby and Toddler Group
DESCRIPTION:
URL:https://www.twyfordschool.org.uk/event/toddler-group-48/
END:VEVENT
BEGIN:VEVENT
DTSTART;VALUE=DATE:20240705
DTEND;VALUE=DATE:20240706
DTSTAMP:20260420T150654
CREATED:20240419T133925Z
LAST-MODIFIED:20240704T084747Z
UID:8468-1720137600-1720223999@www.twyfordschool.org.uk
SUMMARY:CANCELLED FOTS Summer Sizzler
DESCRIPTION:Resheduled for 12th July
URL:https://www.twyfordschool.org.uk/event/fots-summer-sizzler/
END:VEVENT
BEGIN:VEVENT
DTSTART;VALUE=DATE:20240702
DTEND;VALUE=DATE:20240703
DTSTAMP:20260420T150654
CREATED:20231006T100629Z
LAST-MODIFIED:20240105T112208Z
UID:7934-1719878400-1719964799@www.twyfordschool.org.uk
SUMMARY:School Transition Day
DESCRIPTION:School transition (for children to visit new school/classroom)
URL:https://www.twyfordschool.org.uk/event/school-transition-day/
END:VEVENT
BEGIN:VEVENT
DTSTART;TZID=Europe/London:20240628T094500
DTEND;TZID=Europe/London:20240628T110000
DTSTAMP:20260420T150654
CREATED:20240104T125901Z
LAST-MODIFIED:20240606T085211Z
UID:8164-1719567900-1719572400@www.twyfordschool.org.uk
SUMMARY:Baby and Toddler Group
DESCRIPTION:Children’s centre visiting
URL:https://www.twyfordschool.org.uk/event/toddler-group-47/
END:VEVENT
BEGIN:VEVENT
DTSTART;VALUE=DATE:20240627
DTEND;VALUE=DATE:20240628
DTSTAMP:20260420T150654
CREATED:20240419T133844Z
LAST-MODIFIED:20240419T133844Z
UID:8466-1719446400-1719532799@www.twyfordschool.org.uk
SUMMARY:Sports Day
DESCRIPTION:
URL:https://www.twyfordschool.org.uk/event/sports-day-2/
END:VEVENT
BEGIN:VEVENT
DTSTART;VALUE=DATE:20240627
DTEND;VALUE=DATE:20240628
DTSTAMP:20260420T150654
CREATED:20240419T133751Z
LAST-MODIFIED:20240419T133804Z
UID:8464-1719446400-1719532799@www.twyfordschool.org.uk
SUMMARY:Rothschild House Fundraiser
DESCRIPTION:
URL:https://www.twyfordschool.org.uk/event/rothschild-house-fundraiser/
END:VEVENT
BEGIN:VEVENT
DTSTART;VALUE=DATE:20240626
DTEND;VALUE=DATE:20240627
DTSTAMP:20260420T150654
CREATED:20240509T143308Z
LAST-MODIFIED:20240509T143308Z
UID:8510-1719360000-1719446399@www.twyfordschool.org.uk
SUMMARY:Early Years visit to Waddesdon Manor
DESCRIPTION:
URL:https://www.twyfordschool.org.uk/event/early-years-visit-to-waddesdon-manor/
END:VEVENT
BEGIN:VEVENT
DTSTART;VALUE=DATE:20240626
DTEND;VALUE=DATE:20240627
DTSTAMP:20260420T150654
CREATED:20231012T105136Z
LAST-MODIFIED:20231012T105136Z
UID:8021-1719360000-1719446399@www.twyfordschool.org.uk
SUMMARY:LKS2 Swimming
DESCRIPTION:
URL:https://www.twyfordschool.org.uk/event/lks2-swimming-10/
END:VEVENT
BEGIN:VEVENT
DTSTART;VALUE=DATE:20240624
DTEND;VALUE=DATE:20240625
DTSTAMP:20260420T150654
CREATED:20240621T145542Z
LAST-MODIFIED:20240621T145542Z
UID:8579-1719187200-1719273599@www.twyfordschool.org.uk
SUMMARY:LKS2 trip to Holdenby House
DESCRIPTION:
URL:https://www.twyfordschool.org.uk/event/lks2-trip-to-holdenby-house/
END:VEVENT
BEGIN:VEVENT
DTSTART;TZID=Europe/London:20240621T094500
DTEND;TZID=Europe/London:20240621T110000
DTSTAMP:20260420T150654
CREATED:20240104T131056Z
LAST-MODIFIED:20240315T143043Z
UID:8168-1718963100-1718967600@www.twyfordschool.org.uk
SUMMARY:Baby and Toddler Group
DESCRIPTION:
URL:https://www.twyfordschool.org.uk/event/toddler-group-49/
END:VEVENT
BEGIN:VEVENT
DTSTART;VALUE=DATE:20240619
DTEND;VALUE=DATE:20240622
DTSTAMP:20260420T150654
CREATED:20240315T141756Z
LAST-MODIFIED:20240503T134904Z
UID:8402-1718755200-1719014399@www.twyfordschool.org.uk
SUMMARY:Y 5 & 6 Residential Trip
DESCRIPTION:Depart today and return 21st June
URL:https://www.twyfordschool.org.uk/event/residential-trip-year-5-and-6/
END:VEVENT
BEGIN:VEVENT
DTSTART;VALUE=DATE:20240619
DTEND;VALUE=DATE:20240620
DTSTAMP:20260420T150654
CREATED:20231012T101705Z
LAST-MODIFIED:20231012T105115Z
UID:8016-1718755200-1718841599@www.twyfordschool.org.uk
SUMMARY:LKS2 Swimming
DESCRIPTION:
URL:https://www.twyfordschool.org.uk/event/lks2-swimming-9/
END:VEVENT
BEGIN:VEVENT
DTSTART;TZID=Europe/London:20240614T094500
DTEND;TZID=Europe/London:20240614T110000
DTSTAMP:20260420T150654
CREATED:20240104T125737Z
LAST-MODIFIED:20240315T143643Z
UID:8161-1718358300-1718362800@www.twyfordschool.org.uk
SUMMARY:Baby and Toddler Group
DESCRIPTION:
URL:https://www.twyfordschool.org.uk/event/toddler-group-46/
END:VEVENT
BEGIN:VEVENT
DTSTART;VALUE=DATE:20240613
DTEND;VALUE=DATE:20240614
DTSTAMP:20260420T150654
CREATED:20240517T130704Z
LAST-MODIFIED:20240517T130704Z
UID:8520-1718236800-1718323199@www.twyfordschool.org.uk
SUMMARY:Y5 Secondary Transfer Meeting
DESCRIPTION:Meeting for Y5 parents
URL:https://www.twyfordschool.org.uk/event/y5-secondary-transfer-meeting/
END:VEVENT
BEGIN:VEVENT
DTSTART;VALUE=DATE:20240612
DTEND;VALUE=DATE:20240613
DTSTAMP:20260420T150654
CREATED:20231012T101640Z
LAST-MODIFIED:20231012T101640Z
UID:8014-1718150400-1718236799@www.twyfordschool.org.uk
SUMMARY:LKS2 Swimming
DESCRIPTION:
URL:https://www.twyfordschool.org.uk/event/lks2-swimming-8/
END:VEVENT
END:VCALENDAR